BEGIN:VCALENDAR
VERSION:2.0
PRODID:-//The J of Greater Ann Arbor - ECPv6.15.18//NONSGML v1.0//EN
CALSCALE:GREGORIAN
METHOD:PUBLISH
X-ORIGINAL-URL:https://jccannarbor.org
X-WR-CALDESC:Events for The J of Greater Ann Arbor
REFRESH-INTERVAL;VALUE=DURATION:PT1H
X-Robots-Tag:noindex
X-PUBLISHED-TTL:PT1H
BEGIN:VTIMEZONE
TZID:America/Detroit
BEGIN:DAYLIGHT
TZOFFSETFROM:-0500
TZOFFSETTO:-0400
TZNAME:EDT
DTSTART:20260308T070000
END:DAYLIGHT
BEGIN:STANDARD
TZOFFSETFROM:-0400
TZOFFSETTO:-0500
TZNAME:EST
DTSTART:20261101T060000
END:STANDARD
BEGIN:DAYLIGHT
TZOFFSETFROM:-0500
TZOFFSETTO:-0400
TZNAME:EDT
DTSTART:20270314T070000
END:DAYLIGHT
BEGIN:STANDARD
TZOFFSETFROM:-0400
TZOFFSETTO:-0500
TZNAME:EST
DTSTART:20271107T060000
END:STANDARD
BEGIN:DAYLIGHT
TZOFFSETFROM:-0500
TZOFFSETTO:-0400
TZNAME:EDT
DTSTART:20280312T070000
END:DAYLIGHT
BEGIN:STANDARD
TZOFFSETFROM:-0400
TZOFFSETTO:-0500
TZNAME:EST
DTSTART:20281105T060000
END:STANDARD
BEGIN:DAYLIGHT
TZOFFSETFROM:-0500
TZOFFSETTO:-0400
TZNAME:EDT
DTSTART:20290311T070000
END:DAYLIGHT
BEGIN:STANDARD
TZOFFSETFROM:-0400
TZOFFSETTO:-0500
TZNAME:EST
DTSTART:20291104T060000
END:STANDARD
BEGIN:DAYLIGHT
TZOFFSETFROM:-0500
TZOFFSETTO:-0400
TZNAME:EDT
DTSTART:20300310T070000
END:DAYLIGHT
BEGIN:STANDARD
TZOFFSETFROM:-0400
TZOFFSETTO:-0500
TZNAME:EST
DTSTART:20301103T060000
END:STANDARD
BEGIN:DAYLIGHT
TZOFFSETFROM:-0500
TZOFFSETTO:-0400
TZNAME:EDT
DTSTART:20310309T070000
END:DAYLIGHT
BEGIN:STANDARD
TZOFFSETFROM:-0400
TZOFFSETTO:-0500
TZNAME:EST
DTSTART:20311102T060000
END:STANDARD
BEGIN:DAYLIGHT
TZOFFSETFROM:-0500
TZOFFSETTO:-0400
TZNAME:EDT
DTSTART:20320314T070000
END:DAYLIGHT
BEGIN:STANDARD
TZOFFSETFROM:-0400
TZOFFSETTO:-0500
TZNAME:EST
DTSTART:20321107T060000
END:STANDARD
BEGIN:DAYLIGHT
TZOFFSETFROM:-0500
TZOFFSETTO:-0400
TZNAME:EDT
DTSTART:20330313T070000
END:DAYLIGHT
BEGIN:STANDARD
TZOFFSETFROM:-0400
TZOFFSETTO:-0500
TZNAME:EST
DTSTART:20331106T060000
END:STANDARD
BEGIN:DAYLIGHT
TZOFFSETFROM:-0500
TZOFFSETTO:-0400
TZNAME:EDT
DTSTART:20340312T070000
END:DAYLIGHT
BEGIN:STANDARD
TZOFFSETFROM:-0400
TZOFFSETTO:-0500
TZNAME:EST
DTSTART:20341105T060000
END:STANDARD
BEGIN:DAYLIGHT
TZOFFSETFROM:-0500
TZOFFSETTO:-0400
TZNAME:EDT
DTSTART:20350311T070000
END:DAYLIGHT
BEGIN:STANDARD
TZOFFSETFROM:-0400
TZOFFSETTO:-0500
TZNAME:EST
DTSTART:20351104T060000
END:STANDARD
BEGIN:DAYLIGHT
TZOFFSETFROM:-0500
TZOFFSETTO:-0400
TZNAME:EDT
DTSTART:20360309T070000
END:DAYLIGHT
BEGIN:STANDARD
TZOFFSETFROM:-0400
TZOFFSETTO:-0500
TZNAME:EST
DTSTART:20361102T060000
END:STANDARD
BEGIN:DAYLIGHT
TZOFFSETFROM:-0500
TZOFFSETTO:-0400
TZNAME:EDT
DTSTART:20370308T070000
END:DAYLIGHT
BEGIN:STANDARD
TZOFFSETFROM:-0400
TZOFFSETTO:-0500
TZNAME:EST
DTSTART:20371101T060000
END:STANDARD
END:VTIMEZONE
BEGIN:VEVENT
DTSTART;TZID=America/Detroit:20270208T153000
DTEND;TZID=America/Detroit:20270208T170000
DTSTAMP:20260425T203813
CREATED:20260424T173337Z
LAST-MODIFIED:20260424T173401Z
UID:10008089-1802100600-1802106000@jccannarbor.org
SUMMARY:Sefer Squad
DESCRIPTION:Registration for this program has now closed.
URL:https://jccannarbor.org/event/sefer-squad/2027-02-08/
LOCATION:The J\, 2935 Birch Hollow Dr.\, Ann Arbor\, MI\, 48108\, United States
CATEGORIES:Youth
GEO:42.239759;-83.722389
X-APPLE-STRUCTURED-LOCATION;VALUE=URI;X-ADDRESS=The J 2935 Birch Hollow Dr. Ann Arbor MI 48108 United States;X-APPLE-RADIUS=500;X-TITLE=2935 Birch Hollow Dr.:geo:-83.722389,42.239759
END:VEVENT
BEGIN:VEVENT
DTSTART;TZID=America/Detroit:20270215T153000
DTEND;TZID=America/Detroit:20270215T170000
DTSTAMP:20260425T203813
CREATED:20260424T173337Z
LAST-MODIFIED:20260424T173401Z
UID:10008090-1802705400-1802710800@jccannarbor.org
SUMMARY:Sefer Squad
DESCRIPTION:Registration for this program has now closed.
URL:https://jccannarbor.org/event/sefer-squad/2027-02-15/
LOCATION:The J\, 2935 Birch Hollow Dr.\, Ann Arbor\, MI\, 48108\, United States
CATEGORIES:Youth
GEO:42.239759;-83.722389
X-APPLE-STRUCTURED-LOCATION;VALUE=URI;X-ADDRESS=The J 2935 Birch Hollow Dr. Ann Arbor MI 48108 United States;X-APPLE-RADIUS=500;X-TITLE=2935 Birch Hollow Dr.:geo:-83.722389,42.239759
END:VEVENT
BEGIN:VEVENT
DTSTART;TZID=America/Detroit:20270222T153000
DTEND;TZID=America/Detroit:20270222T170000
DTSTAMP:20260425T203813
CREATED:20260424T173337Z
LAST-MODIFIED:20260424T173401Z
UID:10008091-1803310200-1803315600@jccannarbor.org
SUMMARY:Sefer Squad
DESCRIPTION:Registration for this program has now closed.
URL:https://jccannarbor.org/event/sefer-squad/2027-02-22/
LOCATION:The J\, 2935 Birch Hollow Dr.\, Ann Arbor\, MI\, 48108\, United States
CATEGORIES:Youth
GEO:42.239759;-83.722389
X-APPLE-STRUCTURED-LOCATION;VALUE=URI;X-ADDRESS=The J 2935 Birch Hollow Dr. Ann Arbor MI 48108 United States;X-APPLE-RADIUS=500;X-TITLE=2935 Birch Hollow Dr.:geo:-83.722389,42.239759
END:VEVENT
BEGIN:VEVENT
DTSTART;TZID=America/Detroit:20270301T153000
DTEND;TZID=America/Detroit:20270301T170000
DTSTAMP:20260425T203813
CREATED:20260424T173337Z
LAST-MODIFIED:20260424T173401Z
UID:10008092-1803915000-1803920400@jccannarbor.org
SUMMARY:Sefer Squad
DESCRIPTION:Registration for this program has now closed.
URL:https://jccannarbor.org/event/sefer-squad/2027-03-01/
LOCATION:The J\, 2935 Birch Hollow Dr.\, Ann Arbor\, MI\, 48108\, United States
CATEGORIES:Youth
GEO:42.239759;-83.722389
X-APPLE-STRUCTURED-LOCATION;VALUE=URI;X-ADDRESS=The J 2935 Birch Hollow Dr. Ann Arbor MI 48108 United States;X-APPLE-RADIUS=500;X-TITLE=2935 Birch Hollow Dr.:geo:-83.722389,42.239759
END:VEVENT
BEGIN:VEVENT
DTSTART;TZID=America/Detroit:20270308T153000
DTEND;TZID=America/Detroit:20270308T170000
DTSTAMP:20260425T203813
CREATED:20260424T173337Z
LAST-MODIFIED:20260424T173401Z
UID:10008093-1804519800-1804525200@jccannarbor.org
SUMMARY:Sefer Squad
DESCRIPTION:Registration for this program has now closed.
URL:https://jccannarbor.org/event/sefer-squad/2027-03-08/
LOCATION:The J\, 2935 Birch Hollow Dr.\, Ann Arbor\, MI\, 48108\, United States
CATEGORIES:Youth
GEO:42.239759;-83.722389
X-APPLE-STRUCTURED-LOCATION;VALUE=URI;X-ADDRESS=The J 2935 Birch Hollow Dr. Ann Arbor MI 48108 United States;X-APPLE-RADIUS=500;X-TITLE=2935 Birch Hollow Dr.:geo:-83.722389,42.239759
END:VEVENT
BEGIN:VEVENT
DTSTART;TZID=America/Detroit:20270315T153000
DTEND;TZID=America/Detroit:20270315T170000
DTSTAMP:20260425T203813
CREATED:20260424T173337Z
LAST-MODIFIED:20260424T173401Z
UID:10008094-1805124600-1805130000@jccannarbor.org
SUMMARY:Sefer Squad
DESCRIPTION:Registration for this program has now closed.
URL:https://jccannarbor.org/event/sefer-squad/2027-03-15/
LOCATION:The J\, 2935 Birch Hollow Dr.\, Ann Arbor\, MI\, 48108\, United States
CATEGORIES:Youth
GEO:42.239759;-83.722389
X-APPLE-STRUCTURED-LOCATION;VALUE=URI;X-ADDRESS=The J 2935 Birch Hollow Dr. Ann Arbor MI 48108 United States;X-APPLE-RADIUS=500;X-TITLE=2935 Birch Hollow Dr.:geo:-83.722389,42.239759
END:VEVENT
BEGIN:VEVENT
DTSTART;TZID=America/Detroit:20270322T153000
DTEND;TZID=America/Detroit:20270322T170000
DTSTAMP:20260425T203813
CREATED:20260424T173337Z
LAST-MODIFIED:20260424T173401Z
UID:10008095-1805729400-1805734800@jccannarbor.org
SUMMARY:Sefer Squad
DESCRIPTION:Registration for this program has now closed.
URL:https://jccannarbor.org/event/sefer-squad/2027-03-22/
LOCATION:The J\, 2935 Birch Hollow Dr.\, Ann Arbor\, MI\, 48108\, United States
CATEGORIES:Youth
GEO:42.239759;-83.722389
X-APPLE-STRUCTURED-LOCATION;VALUE=URI;X-ADDRESS=The J 2935 Birch Hollow Dr. Ann Arbor MI 48108 United States;X-APPLE-RADIUS=500;X-TITLE=2935 Birch Hollow Dr.:geo:-83.722389,42.239759
END:VEVENT
BEGIN:VEVENT
DTSTART;TZID=America/Detroit:20270329T153000
DTEND;TZID=America/Detroit:20270329T170000
DTSTAMP:20260425T203813
CREATED:20260424T173337Z
LAST-MODIFIED:20260424T173401Z
UID:10008096-1806334200-1806339600@jccannarbor.org
SUMMARY:Sefer Squad
DESCRIPTION:Registration for this program has now closed.
URL:https://jccannarbor.org/event/sefer-squad/2027-03-29/
LOCATION:The J\, 2935 Birch Hollow Dr.\, Ann Arbor\, MI\, 48108\, United States
CATEGORIES:Youth
GEO:42.239759;-83.722389
X-APPLE-STRUCTURED-LOCATION;VALUE=URI;X-ADDRESS=The J 2935 Birch Hollow Dr. Ann Arbor MI 48108 United States;X-APPLE-RADIUS=500;X-TITLE=2935 Birch Hollow Dr.:geo:-83.722389,42.239759
END:VEVENT
BEGIN:VEVENT
DTSTART;TZID=America/Detroit:20270405T153000
DTEND;TZID=America/Detroit:20270405T170000
DTSTAMP:20260425T203813
CREATED:20260424T173337Z
LAST-MODIFIED:20260424T173401Z
UID:10008097-1806939000-1806944400@jccannarbor.org
SUMMARY:Sefer Squad
DESCRIPTION:Registration for this program has now closed.
URL:https://jccannarbor.org/event/sefer-squad/2027-04-05/
LOCATION:The J\, 2935 Birch Hollow Dr.\, Ann Arbor\, MI\, 48108\, United States
CATEGORIES:Youth
GEO:42.239759;-83.722389
X-APPLE-STRUCTURED-LOCATION;VALUE=URI;X-ADDRESS=The J 2935 Birch Hollow Dr. Ann Arbor MI 48108 United States;X-APPLE-RADIUS=500;X-TITLE=2935 Birch Hollow Dr.:geo:-83.722389,42.239759
END:VEVENT
BEGIN:VEVENT
DTSTART;TZID=America/Detroit:20270412T153000
DTEND;TZID=America/Detroit:20270412T170000
DTSTAMP:20260425T203813
CREATED:20260424T173337Z
LAST-MODIFIED:20260424T173401Z
UID:10008098-1807543800-1807549200@jccannarbor.org
SUMMARY:Sefer Squad
DESCRIPTION:Registration for this program has now closed.
URL:https://jccannarbor.org/event/sefer-squad/2027-04-12/
LOCATION:The J\, 2935 Birch Hollow Dr.\, Ann Arbor\, MI\, 48108\, United States
CATEGORIES:Youth
GEO:42.239759;-83.722389
X-APPLE-STRUCTURED-LOCATION;VALUE=URI;X-ADDRESS=The J 2935 Birch Hollow Dr. Ann Arbor MI 48108 United States;X-APPLE-RADIUS=500;X-TITLE=2935 Birch Hollow Dr.:geo:-83.722389,42.239759
END:VEVENT
BEGIN:VEVENT
DTSTART;TZID=America/Detroit:20270419T153000
DTEND;TZID=America/Detroit:20270419T170000
DTSTAMP:20260425T203813
CREATED:20260424T173337Z
LAST-MODIFIED:20260424T173401Z
UID:10008099-1808148600-1808154000@jccannarbor.org
SUMMARY:Sefer Squad
DESCRIPTION:Registration for this program has now closed.
URL:https://jccannarbor.org/event/sefer-squad/2027-04-19/
LOCATION:The J\, 2935 Birch Hollow Dr.\, Ann Arbor\, MI\, 48108\, United States
CATEGORIES:Youth
GEO:42.239759;-83.722389
X-APPLE-STRUCTURED-LOCATION;VALUE=URI;X-ADDRESS=The J 2935 Birch Hollow Dr. Ann Arbor MI 48108 United States;X-APPLE-RADIUS=500;X-TITLE=2935 Birch Hollow Dr.:geo:-83.722389,42.239759
END:VEVENT
BEGIN:VEVENT
DTSTART;TZID=America/Detroit:20270426T153000
DTEND;TZID=America/Detroit:20270426T170000
DTSTAMP:20260425T203813
CREATED:20260424T173337Z
LAST-MODIFIED:20260424T173401Z
UID:10008100-1808753400-1808758800@jccannarbor.org
SUMMARY:Sefer Squad
DESCRIPTION:Registration for this program has now closed.
URL:https://jccannarbor.org/event/sefer-squad/2027-04-26/
LOCATION:The J\, 2935 Birch Hollow Dr.\, Ann Arbor\, MI\, 48108\, United States
CATEGORIES:Youth
GEO:42.239759;-83.722389
X-APPLE-STRUCTURED-LOCATION;VALUE=URI;X-ADDRESS=The J 2935 Birch Hollow Dr. Ann Arbor MI 48108 United States;X-APPLE-RADIUS=500;X-TITLE=2935 Birch Hollow Dr.:geo:-83.722389,42.239759
END:VEVENT
BEGIN:VEVENT
DTSTART;TZID=America/Detroit:20270503T153000
DTEND;TZID=America/Detroit:20270503T170000
DTSTAMP:20260425T203813
CREATED:20260424T173337Z
LAST-MODIFIED:20260424T173401Z
UID:10008101-1809358200-1809363600@jccannarbor.org
SUMMARY:Sefer Squad
DESCRIPTION:Registration for this program has now closed.
URL:https://jccannarbor.org/event/sefer-squad/2027-05-03/
LOCATION:The J\, 2935 Birch Hollow Dr.\, Ann Arbor\, MI\, 48108\, United States
CATEGORIES:Youth
GEO:42.239759;-83.722389
X-APPLE-STRUCTURED-LOCATION;VALUE=URI;X-ADDRESS=The J 2935 Birch Hollow Dr. Ann Arbor MI 48108 United States;X-APPLE-RADIUS=500;X-TITLE=2935 Birch Hollow Dr.:geo:-83.722389,42.239759
END:VEVENT
BEGIN:VEVENT
DTSTART;TZID=America/Detroit:20270510T153000
DTEND;TZID=America/Detroit:20270510T170000
DTSTAMP:20260425T203813
CREATED:20260424T173337Z
LAST-MODIFIED:20260424T173401Z
UID:10008102-1809963000-1809968400@jccannarbor.org
SUMMARY:Sefer Squad
DESCRIPTION:Registration for this program has now closed.
URL:https://jccannarbor.org/event/sefer-squad/2027-05-10/
LOCATION:The J\, 2935 Birch Hollow Dr.\, Ann Arbor\, MI\, 48108\, United States
CATEGORIES:Youth
GEO:42.239759;-83.722389
X-APPLE-STRUCTURED-LOCATION;VALUE=URI;X-ADDRESS=The J 2935 Birch Hollow Dr. Ann Arbor MI 48108 United States;X-APPLE-RADIUS=500;X-TITLE=2935 Birch Hollow Dr.:geo:-83.722389,42.239759
END:VEVENT
BEGIN:VEVENT
DTSTART;TZID=America/Detroit:20270517T153000
DTEND;TZID=America/Detroit:20270517T170000
DTSTAMP:20260425T203813
CREATED:20260424T173337Z
LAST-MODIFIED:20260424T173401Z
UID:10008103-1810567800-1810573200@jccannarbor.org
SUMMARY:Sefer Squad
DESCRIPTION:Registration for this program has now closed.
URL:https://jccannarbor.org/event/sefer-squad/2027-05-17/
LOCATION:The J\, 2935 Birch Hollow Dr.\, Ann Arbor\, MI\, 48108\, United States
CATEGORIES:Youth
GEO:42.239759;-83.722389
X-APPLE-STRUCTURED-LOCATION;VALUE=URI;X-ADDRESS=The J 2935 Birch Hollow Dr. Ann Arbor MI 48108 United States;X-APPLE-RADIUS=500;X-TITLE=2935 Birch Hollow Dr.:geo:-83.722389,42.239759
END:VEVENT
BEGIN:VEVENT
DTSTART;TZID=America/Detroit:20351207T090000
DTEND;TZID=America/Detroit:20450406T020000
DTSTAMP:20260425T203813
CREATED:20250326T162420Z
LAST-MODIFIED:20250908T172450Z
UID:10006177-2080630800-2375056800@jccannarbor.org
SUMMARY:ZUMBA in the Gym!
DESCRIPTION:Join us for ZUMBA in the Gym!\n9-10 AM\nZumba is a high intensity\, low impact aerobic dance class.  Features include Latin & international rhythms including merengue\, salsa\, cumbia\, reggaeton\, flamenco\, and samba and Bhangra. Zumba is a dance workout that feels like a party. Everybody at any fitness and dance level is welcome. \nThe workout is designed by mixing low-intensity and high-intensity moves for an interval-style\, calorie-burning dance fitness party.  You will get a total body workout through a combination of easy to follow dance and fitness steps.  You get a total workout that combine cardio\, muscle conditioning\, balance and flexibility\, and boosted energy.  It’s exercise in disguise.  The class duration is for about 60 min\, and includes an intro\, dance\, and cool down part. \nRegistration\n\nDrop-in process – visit the Welcome Desk at the JCC to pay and join the class!\n\nCost\n$5 for J member or community member \nClass policies\n• Gym shoes are required\n• A water bottle is highly recommended \nNew clients should arrive 5 minutes early to fill out a waiver.\nCancellation policy\nIf cancelling less than two hours before class or you do not show\, full price of the class will be forfeited and will not be refunded.  Must call JCC if cancelling.  If class is cancelled due to instructor illness\, weather\, or building closure\, participant will not forfeit class\, and will have an opportunity to make up the class in the next week or a week when they are able to attend.
URL:https://jccannarbor.org/event/zumba-2/2035-12-07/
LOCATION:The J\, 2935 Birch Hollow Dr.\, Ann Arbor\, MI\, 48108\, United States
CATEGORIES:Health & Wellness,Older Adults
GEO:42.239759;-83.722389
X-APPLE-STRUCTURED-LOCATION;VALUE=URI;X-ADDRESS=The J 2935 Birch Hollow Dr. Ann Arbor MI 48108 United States;X-APPLE-RADIUS=500;X-TITLE=2935 Birch Hollow Dr.:geo:-83.722389,42.239759
END:VEVENT
END:VCALENDAR