BEGIN:VCALENDAR
VERSION:2.0
PRODID:-//The J of Greater Ann Arbor - ECPv6.15.18//NONSGML v1.0//EN
CALSCALE:GREGORIAN
METHOD:PUBLISH
X-WR-CALNAME:The J of Greater Ann Arbor
X-ORIGINAL-URL:https://jccannarbor.org
X-WR-CALDESC:Events for The J of Greater Ann Arbor
REFRESH-INTERVAL;VALUE=DURATION:PT1H
X-Robots-Tag:noindex
X-PUBLISHED-TTL:PT1H
BEGIN:VTIMEZONE
TZID:America/Detroit
BEGIN:DAYLIGHT
TZOFFSETFROM:-0500
TZOFFSETTO:-0400
TZNAME:EDT
DTSTART:20250309T070000
END:DAYLIGHT
BEGIN:STANDARD
TZOFFSETFROM:-0400
TZOFFSETTO:-0500
TZNAME:EST
DTSTART:20251102T060000
END:STANDARD
BEGIN:DAYLIGHT
TZOFFSETFROM:-0500
TZOFFSETTO:-0400
TZNAME:EDT
DTSTART:20260308T070000
END:DAYLIGHT
BEGIN:STANDARD
TZOFFSETFROM:-0400
TZOFFSETTO:-0500
TZNAME:EST
DTSTART:20261101T060000
END:STANDARD
BEGIN:DAYLIGHT
TZOFFSETFROM:-0500
TZOFFSETTO:-0400
TZNAME:EDT
DTSTART:20270314T070000
END:DAYLIGHT
BEGIN:STANDARD
TZOFFSETFROM:-0400
TZOFFSETTO:-0500
TZNAME:EST
DTSTART:20271107T060000
END:STANDARD
END:VTIMEZONE
BEGIN:VEVENT
DTSTART;VALUE=DATE:20260112
DTEND;VALUE=DATE:20260416
DTSTAMP:20260425T085722
CREATED:20251219T173628Z
LAST-MODIFIED:20260424T162114Z
UID:10007774-1768176000-1776297599@jccannarbor.org
SUMMARY:Winter/Spring Programming
DESCRIPTION:KIDS PROGRAMMING\n\nK-Pop Demon Hunters Dance Gymnastics\n\nADULT PROGRAMMING\n\nFiber Arts Club\n 
URL:https://jccannarbor.org/event/winter-spring-programming/
LOCATION:The J\, 2935 Birch Hollow Dr.\, Ann Arbor\, MI\, 48108\, United States
CATEGORIES:Community
ATTACH;FMTTYPE=image/jpeg:https://jccannarbor.org/wp-content/uploads/2025/12/Website-Graphics-1.jpg
GEO:42.239759;-83.722389
X-APPLE-STRUCTURED-LOCATION;VALUE=URI;X-ADDRESS=The J 2935 Birch Hollow Dr. Ann Arbor MI 48108 United States;X-APPLE-RADIUS=500;X-TITLE=2935 Birch Hollow Dr.:geo:-83.722389,42.239759
END:VEVENT
BEGIN:VEVENT
DTSTART;TZID=America/Detroit:20260413T153000
DTEND;TZID=America/Detroit:20260413T170000
DTSTAMP:20260425T085722
CREATED:20260424T173337Z
LAST-MODIFIED:20260424T173401Z
UID:10008046-1776094200-1776099600@jccannarbor.org
SUMMARY:Sefer Squad
DESCRIPTION:Registration for this program has now closed.
URL:https://jccannarbor.org/event/sefer-squad/2026-04-13/
LOCATION:The J\, 2935 Birch Hollow Dr.\, Ann Arbor\, MI\, 48108\, United States
CATEGORIES:Youth
GEO:42.239759;-83.722389
X-APPLE-STRUCTURED-LOCATION;VALUE=URI;X-ADDRESS=The J 2935 Birch Hollow Dr. Ann Arbor MI 48108 United States;X-APPLE-RADIUS=500;X-TITLE=2935 Birch Hollow Dr.:geo:-83.722389,42.239759
END:VEVENT
BEGIN:VEVENT
DTSTART;TZID=America/Detroit:20260413T153000
DTEND;TZID=America/Detroit:20260413T170000
DTSTAMP:20260425T085722
CREATED:20260424T173634Z
LAST-MODIFIED:20260424T174716Z
UID:10008110-1776094200-1776099600@jccannarbor.org
SUMMARY:Flag Football
DESCRIPTION:
URL:https://jccannarbor.org/event/flag-football/2026-04-13/
LOCATION:The J\, 2935 Birch Hollow Dr.\, Ann Arbor\, MI\, 48108\, United States
CATEGORIES:Youth
GEO:42.239759;-83.722389
X-APPLE-STRUCTURED-LOCATION;VALUE=URI;X-ADDRESS=The J 2935 Birch Hollow Dr. Ann Arbor MI 48108 United States;X-APPLE-RADIUS=500;X-TITLE=2935 Birch Hollow Dr.:geo:-83.722389,42.239759
END:VEVENT
BEGIN:VEVENT
DTSTART;VALUE=DATE:20260414
DTEND;VALUE=DATE:20260415
DTSTAMP:20260425T085722
CREATED:20250821T185115Z
LAST-MODIFIED:20250821T185115Z
UID:10006239-1776124800-1776211199@jccannarbor.org
SUMMARY:Yom HaShoah
DESCRIPTION:
URL:https://jccannarbor.org/event/yom-hashoah-2/
LOCATION:The J\, 2935 Birch Hollow Dr.\, Ann Arbor\, MI\, 48108\, United States
GEO:42.239759;-83.722389
X-APPLE-STRUCTURED-LOCATION;VALUE=URI;X-ADDRESS=The J 2935 Birch Hollow Dr. Ann Arbor MI 48108 United States;X-APPLE-RADIUS=500;X-TITLE=2935 Birch Hollow Dr.:geo:-83.722389,42.239759
END:VEVENT
BEGIN:VEVENT
DTSTART;TZID=America/Detroit:20260414T153000
DTEND;TZID=America/Detroit:20260414T170000
DTSTAMP:20260425T085722
CREATED:20260424T174344Z
LAST-MODIFIED:20260424T175114Z
UID:10008130-1776180600-1776186000@jccannarbor.org
SUMMARY:Card Games
DESCRIPTION:
URL:https://jccannarbor.org/event/card-games/2026-04-14/
LOCATION:The J\, 2935 Birch Hollow Dr.\, Ann Arbor\, MI\, 48108\, United States
CATEGORIES:Youth
GEO:42.239759;-83.722389
X-APPLE-STRUCTURED-LOCATION;VALUE=URI;X-ADDRESS=The J 2935 Birch Hollow Dr. Ann Arbor MI 48108 United States;X-APPLE-RADIUS=500;X-TITLE=2935 Birch Hollow Dr.:geo:-83.722389,42.239759
END:VEVENT
BEGIN:VEVENT
DTSTART;TZID=America/Detroit:20260414T161500
DTEND;TZID=America/Detroit:20260414T171500
DTSTAMP:20260425T085722
CREATED:20260108T213310Z
LAST-MODIFIED:20260204T205703Z
UID:10007945-1776183300-1776186900@jccannarbor.org
SUMMARY:Kids Dungeons & Dragons (Grades 2-5)
DESCRIPTION:Registration is now closed.
URL:https://jccannarbor.org/event/kids-dungeons-dragons-grades-2-5/2026-04-14/
LOCATION:The J\, 2935 Birch Hollow Dr.\, Ann Arbor\, MI\, 48108\, United States
CATEGORIES:Youth
GEO:42.239759;-83.722389
X-APPLE-STRUCTURED-LOCATION;VALUE=URI;X-ADDRESS=The J 2935 Birch Hollow Dr. Ann Arbor MI 48108 United States;X-APPLE-RADIUS=500;X-TITLE=2935 Birch Hollow Dr.:geo:-83.722389,42.239759
END:VEVENT
BEGIN:VEVENT
DTSTART;TZID=America/Detroit:20260415T153000
DTEND;TZID=America/Detroit:20260415T163000
DTSTAMP:20260425T085722
CREATED:20260424T180101Z
LAST-MODIFIED:20260424T180101Z
UID:10008167-1776267000-1776270600@jccannarbor.org
SUMMARY:Klez Kids
DESCRIPTION:
URL:https://jccannarbor.org/event/klez-kids/2026-04-15/
LOCATION:The J\, 2935 Birch Hollow Dr.\, Ann Arbor\, MI\, 48108\, United States
CATEGORIES:Cultural Arts,Youth
GEO:42.239759;-83.722389
X-APPLE-STRUCTURED-LOCATION;VALUE=URI;X-ADDRESS=The J 2935 Birch Hollow Dr. Ann Arbor MI 48108 United States;X-APPLE-RADIUS=500;X-TITLE=2935 Birch Hollow Dr.:geo:-83.722389,42.239759
END:VEVENT
BEGIN:VEVENT
DTSTART;TZID=America/Detroit:20260416T153000
DTEND;TZID=America/Detroit:20260416T163000
DTSTAMP:20260425T085722
CREATED:20260424T180419Z
LAST-MODIFIED:20260424T180528Z
UID:10008175-1776353400-1776357000@jccannarbor.org
SUMMARY:Chess Club
DESCRIPTION:
URL:https://jccannarbor.org/event/chess-club/2026-04-16/
LOCATION:The J\, 2935 Birch Hollow Dr.\, Ann Arbor\, MI\, 48108\, United States
CATEGORIES:Youth
GEO:42.239759;-83.722389
X-APPLE-STRUCTURED-LOCATION;VALUE=URI;X-ADDRESS=The J 2935 Birch Hollow Dr. Ann Arbor MI 48108 United States;X-APPLE-RADIUS=500;X-TITLE=2935 Birch Hollow Dr.:geo:-83.722389,42.239759
END:VEVENT
BEGIN:VEVENT
DTSTART;TZID=America/Detroit:20260416T161500
DTEND;TZID=America/Detroit:20260416T171500
DTSTAMP:20260425T085722
CREATED:20260424T180831Z
LAST-MODIFIED:20260424T180831Z
UID:10008183-1776356100-1776359700@jccannarbor.org
SUMMARY:Detroit Mad Science
DESCRIPTION:
URL:https://jccannarbor.org/event/detroit-mad-science/2026-04-16/
LOCATION:The J\, 2935 Birch Hollow Dr.\, Ann Arbor\, MI\, 48108\, United States
CATEGORIES:Youth
GEO:42.239759;-83.722389
X-APPLE-STRUCTURED-LOCATION;VALUE=URI;X-ADDRESS=The J 2935 Birch Hollow Dr. Ann Arbor MI 48108 United States;X-APPLE-RADIUS=500;X-TITLE=2935 Birch Hollow Dr.:geo:-83.722389,42.239759
END:VEVENT
BEGIN:VEVENT
DTSTART;TZID=America/Detroit:20260420T153000
DTEND;TZID=America/Detroit:20260420T170000
DTSTAMP:20260425T085722
CREATED:20260424T173337Z
LAST-MODIFIED:20260424T173401Z
UID:10008047-1776699000-1776704400@jccannarbor.org
SUMMARY:Sefer Squad
DESCRIPTION:Registration for this program has now closed.
URL:https://jccannarbor.org/event/sefer-squad/2026-04-20/
LOCATION:The J\, 2935 Birch Hollow Dr.\, Ann Arbor\, MI\, 48108\, United States
CATEGORIES:Youth
GEO:42.239759;-83.722389
X-APPLE-STRUCTURED-LOCATION;VALUE=URI;X-ADDRESS=The J 2935 Birch Hollow Dr. Ann Arbor MI 48108 United States;X-APPLE-RADIUS=500;X-TITLE=2935 Birch Hollow Dr.:geo:-83.722389,42.239759
END:VEVENT
BEGIN:VEVENT
DTSTART;TZID=America/Detroit:20260420T153000
DTEND;TZID=America/Detroit:20260420T170000
DTSTAMP:20260425T085722
CREATED:20260424T173634Z
LAST-MODIFIED:20260424T174716Z
UID:10008111-1776699000-1776704400@jccannarbor.org
SUMMARY:Flag Football
DESCRIPTION:
URL:https://jccannarbor.org/event/flag-football/2026-04-20/
LOCATION:The J\, 2935 Birch Hollow Dr.\, Ann Arbor\, MI\, 48108\, United States
CATEGORIES:Youth
GEO:42.239759;-83.722389
X-APPLE-STRUCTURED-LOCATION;VALUE=URI;X-ADDRESS=The J 2935 Birch Hollow Dr. Ann Arbor MI 48108 United States;X-APPLE-RADIUS=500;X-TITLE=2935 Birch Hollow Dr.:geo:-83.722389,42.239759
END:VEVENT
BEGIN:VEVENT
DTSTART;VALUE=DATE:20260421
DTEND;VALUE=DATE:20260422
DTSTAMP:20260425T085722
CREATED:20250821T185200Z
LAST-MODIFIED:20250821T185200Z
UID:10006240-1776729600-1776815999@jccannarbor.org
SUMMARY:Yom HaZikaron
DESCRIPTION:
URL:https://jccannarbor.org/event/yom-hazikaron-2/
LOCATION:The J\, 2935 Birch Hollow Dr.\, Ann Arbor\, MI\, 48108\, United States
GEO:42.239759;-83.722389
X-APPLE-STRUCTURED-LOCATION;VALUE=URI;X-ADDRESS=The J 2935 Birch Hollow Dr. Ann Arbor MI 48108 United States;X-APPLE-RADIUS=500;X-TITLE=2935 Birch Hollow Dr.:geo:-83.722389,42.239759
END:VEVENT
BEGIN:VEVENT
DTSTART;TZID=America/Detroit:20260421T153000
DTEND;TZID=America/Detroit:20260421T163000
DTSTAMP:20260425T085723
CREATED:20260424T173940Z
LAST-MODIFIED:20260424T174137Z
UID:10008118-1776785400-1776789000@jccannarbor.org
SUMMARY:Ivrit B'Keif
DESCRIPTION:
URL:https://jccannarbor.org/event/ivrit-bkeif/2026-04-21/
LOCATION:The J\, 2935 Birch Hollow Dr.\, Ann Arbor\, MI\, 48108\, United States
CATEGORIES:Youth
GEO:42.239759;-83.722389
X-APPLE-STRUCTURED-LOCATION;VALUE=URI;X-ADDRESS=The J 2935 Birch Hollow Dr. Ann Arbor MI 48108 United States;X-APPLE-RADIUS=500;X-TITLE=2935 Birch Hollow Dr.:geo:-83.722389,42.239759
END:VEVENT
BEGIN:VEVENT
DTSTART;TZID=America/Detroit:20260421T153000
DTEND;TZID=America/Detroit:20260421T170000
DTSTAMP:20260425T085723
CREATED:20260424T174344Z
LAST-MODIFIED:20260424T175114Z
UID:10008131-1776785400-1776790800@jccannarbor.org
SUMMARY:Card Games
DESCRIPTION:
URL:https://jccannarbor.org/event/card-games/2026-04-21/
LOCATION:The J\, 2935 Birch Hollow Dr.\, Ann Arbor\, MI\, 48108\, United States
CATEGORIES:Youth
GEO:42.239759;-83.722389
X-APPLE-STRUCTURED-LOCATION;VALUE=URI;X-ADDRESS=The J 2935 Birch Hollow Dr. Ann Arbor MI 48108 United States;X-APPLE-RADIUS=500;X-TITLE=2935 Birch Hollow Dr.:geo:-83.722389,42.239759
END:VEVENT
BEGIN:VEVENT
DTSTART;TZID=America/Detroit:20260421T161500
DTEND;TZID=America/Detroit:20260421T171500
DTSTAMP:20260425T085723
CREATED:20260108T213310Z
LAST-MODIFIED:20260204T205703Z
UID:10007946-1776788100-1776791700@jccannarbor.org
SUMMARY:Kids Dungeons & Dragons (Grades 2-5)
DESCRIPTION:Registration is now closed.
URL:https://jccannarbor.org/event/kids-dungeons-dragons-grades-2-5/2026-04-21/
LOCATION:The J\, 2935 Birch Hollow Dr.\, Ann Arbor\, MI\, 48108\, United States
CATEGORIES:Youth
GEO:42.239759;-83.722389
X-APPLE-STRUCTURED-LOCATION;VALUE=URI;X-ADDRESS=The J 2935 Birch Hollow Dr. Ann Arbor MI 48108 United States;X-APPLE-RADIUS=500;X-TITLE=2935 Birch Hollow Dr.:geo:-83.722389,42.239759
END:VEVENT
BEGIN:VEVENT
DTSTART;VALUE=DATE:20260422
DTEND;VALUE=DATE:20260423
DTSTAMP:20260425T085723
CREATED:20250821T185233Z
LAST-MODIFIED:20250821T185233Z
UID:10006241-1776816000-1776902399@jccannarbor.org
SUMMARY:Yom Ha'Atzmaut
DESCRIPTION:
URL:https://jccannarbor.org/event/yom-haatzmaut-2/
LOCATION:The J\, 2935 Birch Hollow Dr.\, Ann Arbor\, MI\, 48108\, United States
GEO:42.239759;-83.722389
X-APPLE-STRUCTURED-LOCATION;VALUE=URI;X-ADDRESS=The J 2935 Birch Hollow Dr. Ann Arbor MI 48108 United States;X-APPLE-RADIUS=500;X-TITLE=2935 Birch Hollow Dr.:geo:-83.722389,42.239759
END:VEVENT
BEGIN:VEVENT
DTSTART;TZID=America/Detroit:20260422T153000
DTEND;TZID=America/Detroit:20260422T163000
DTSTAMP:20260425T085723
CREATED:20260424T180101Z
LAST-MODIFIED:20260424T180101Z
UID:10008168-1776871800-1776875400@jccannarbor.org
SUMMARY:Klez Kids
DESCRIPTION:
URL:https://jccannarbor.org/event/klez-kids/2026-04-22/
LOCATION:The J\, 2935 Birch Hollow Dr.\, Ann Arbor\, MI\, 48108\, United States
CATEGORIES:Cultural Arts,Youth
GEO:42.239759;-83.722389
X-APPLE-STRUCTURED-LOCATION;VALUE=URI;X-ADDRESS=The J 2935 Birch Hollow Dr. Ann Arbor MI 48108 United States;X-APPLE-RADIUS=500;X-TITLE=2935 Birch Hollow Dr.:geo:-83.722389,42.239759
END:VEVENT
BEGIN:VEVENT
DTSTART;TZID=America/Detroit:20260423T153000
DTEND;TZID=America/Detroit:20260423T163000
DTSTAMP:20260425T085723
CREATED:20260424T180419Z
LAST-MODIFIED:20260424T180528Z
UID:10008176-1776958200-1776961800@jccannarbor.org
SUMMARY:Chess Club
DESCRIPTION:
URL:https://jccannarbor.org/event/chess-club/2026-04-23/
LOCATION:The J\, 2935 Birch Hollow Dr.\, Ann Arbor\, MI\, 48108\, United States
CATEGORIES:Youth
GEO:42.239759;-83.722389
X-APPLE-STRUCTURED-LOCATION;VALUE=URI;X-ADDRESS=The J 2935 Birch Hollow Dr. Ann Arbor MI 48108 United States;X-APPLE-RADIUS=500;X-TITLE=2935 Birch Hollow Dr.:geo:-83.722389,42.239759
END:VEVENT
BEGIN:VEVENT
DTSTART;TZID=America/Detroit:20260423T161500
DTEND;TZID=America/Detroit:20260423T171500
DTSTAMP:20260425T085723
CREATED:20260424T180831Z
LAST-MODIFIED:20260424T180831Z
UID:10008184-1776960900-1776964500@jccannarbor.org
SUMMARY:Detroit Mad Science
DESCRIPTION:
URL:https://jccannarbor.org/event/detroit-mad-science/2026-04-23/
LOCATION:The J\, 2935 Birch Hollow Dr.\, Ann Arbor\, MI\, 48108\, United States
CATEGORIES:Youth
GEO:42.239759;-83.722389
X-APPLE-STRUCTURED-LOCATION;VALUE=URI;X-ADDRESS=The J 2935 Birch Hollow Dr. Ann Arbor MI 48108 United States;X-APPLE-RADIUS=500;X-TITLE=2935 Birch Hollow Dr.:geo:-83.722389,42.239759
END:VEVENT
BEGIN:VEVENT
DTSTART;TZID=America/Detroit:20260427T153000
DTEND;TZID=America/Detroit:20260427T170000
DTSTAMP:20260425T085723
CREATED:20260424T173337Z
LAST-MODIFIED:20260424T173401Z
UID:10008048-1777303800-1777309200@jccannarbor.org
SUMMARY:Sefer Squad
DESCRIPTION:Registration for this program has now closed.
URL:https://jccannarbor.org/event/sefer-squad/2026-04-27/
LOCATION:The J\, 2935 Birch Hollow Dr.\, Ann Arbor\, MI\, 48108\, United States
CATEGORIES:Youth
GEO:42.239759;-83.722389
X-APPLE-STRUCTURED-LOCATION;VALUE=URI;X-ADDRESS=The J 2935 Birch Hollow Dr. Ann Arbor MI 48108 United States;X-APPLE-RADIUS=500;X-TITLE=2935 Birch Hollow Dr.:geo:-83.722389,42.239759
END:VEVENT
BEGIN:VEVENT
DTSTART;TZID=America/Detroit:20260427T153000
DTEND;TZID=America/Detroit:20260427T170000
DTSTAMP:20260425T085723
CREATED:20260424T173634Z
LAST-MODIFIED:20260424T174716Z
UID:10008112-1777303800-1777309200@jccannarbor.org
SUMMARY:Flag Football
DESCRIPTION:
URL:https://jccannarbor.org/event/flag-football/2026-04-27/
LOCATION:The J\, 2935 Birch Hollow Dr.\, Ann Arbor\, MI\, 48108\, United States
CATEGORIES:Youth
GEO:42.239759;-83.722389
X-APPLE-STRUCTURED-LOCATION;VALUE=URI;X-ADDRESS=The J 2935 Birch Hollow Dr. Ann Arbor MI 48108 United States;X-APPLE-RADIUS=500;X-TITLE=2935 Birch Hollow Dr.:geo:-83.722389,42.239759
END:VEVENT
BEGIN:VEVENT
DTSTART;TZID=America/Detroit:20260428T153000
DTEND;TZID=America/Detroit:20260428T163000
DTSTAMP:20260425T085723
CREATED:20260424T173940Z
LAST-MODIFIED:20260424T174137Z
UID:10008119-1777390200-1777393800@jccannarbor.org
SUMMARY:Ivrit B'Keif
DESCRIPTION:
URL:https://jccannarbor.org/event/ivrit-bkeif/2026-04-28/
LOCATION:The J\, 2935 Birch Hollow Dr.\, Ann Arbor\, MI\, 48108\, United States
CATEGORIES:Youth
GEO:42.239759;-83.722389
X-APPLE-STRUCTURED-LOCATION;VALUE=URI;X-ADDRESS=The J 2935 Birch Hollow Dr. Ann Arbor MI 48108 United States;X-APPLE-RADIUS=500;X-TITLE=2935 Birch Hollow Dr.:geo:-83.722389,42.239759
END:VEVENT
BEGIN:VEVENT
DTSTART;TZID=America/Detroit:20260428T153000
DTEND;TZID=America/Detroit:20260428T170000
DTSTAMP:20260425T085723
CREATED:20260424T174344Z
LAST-MODIFIED:20260424T175114Z
UID:10008132-1777390200-1777395600@jccannarbor.org
SUMMARY:Card Games
DESCRIPTION:
URL:https://jccannarbor.org/event/card-games/2026-04-28/
LOCATION:The J\, 2935 Birch Hollow Dr.\, Ann Arbor\, MI\, 48108\, United States
CATEGORIES:Youth
GEO:42.239759;-83.722389
X-APPLE-STRUCTURED-LOCATION;VALUE=URI;X-ADDRESS=The J 2935 Birch Hollow Dr. Ann Arbor MI 48108 United States;X-APPLE-RADIUS=500;X-TITLE=2935 Birch Hollow Dr.:geo:-83.722389,42.239759
END:VEVENT
BEGIN:VEVENT
DTSTART;TZID=America/Detroit:20260429T153000
DTEND;TZID=America/Detroit:20260429T163000
DTSTAMP:20260425T085723
CREATED:20260424T180101Z
LAST-MODIFIED:20260424T180101Z
UID:10008169-1777476600-1777480200@jccannarbor.org
SUMMARY:Klez Kids
DESCRIPTION:
URL:https://jccannarbor.org/event/klez-kids/2026-04-29/
LOCATION:The J\, 2935 Birch Hollow Dr.\, Ann Arbor\, MI\, 48108\, United States
CATEGORIES:Cultural Arts,Youth
GEO:42.239759;-83.722389
X-APPLE-STRUCTURED-LOCATION;VALUE=URI;X-ADDRESS=The J 2935 Birch Hollow Dr. Ann Arbor MI 48108 United States;X-APPLE-RADIUS=500;X-TITLE=2935 Birch Hollow Dr.:geo:-83.722389,42.239759
END:VEVENT
BEGIN:VEVENT
DTSTART;TZID=America/Detroit:20260430T153000
DTEND;TZID=America/Detroit:20260430T163000
DTSTAMP:20260425T085723
CREATED:20260424T180419Z
LAST-MODIFIED:20260424T180528Z
UID:10008177-1777563000-1777566600@jccannarbor.org
SUMMARY:Chess Club
DESCRIPTION:
URL:https://jccannarbor.org/event/chess-club/2026-04-30/
LOCATION:The J\, 2935 Birch Hollow Dr.\, Ann Arbor\, MI\, 48108\, United States
CATEGORIES:Youth
GEO:42.239759;-83.722389
X-APPLE-STRUCTURED-LOCATION;VALUE=URI;X-ADDRESS=The J 2935 Birch Hollow Dr. Ann Arbor MI 48108 United States;X-APPLE-RADIUS=500;X-TITLE=2935 Birch Hollow Dr.:geo:-83.722389,42.239759
END:VEVENT
BEGIN:VEVENT
DTSTART;TZID=America/Detroit:20260430T161500
DTEND;TZID=America/Detroit:20260430T171500
DTSTAMP:20260425T085723
CREATED:20260424T180831Z
LAST-MODIFIED:20260424T180831Z
UID:10008185-1777565700-1777569300@jccannarbor.org
SUMMARY:Detroit Mad Science
DESCRIPTION:
URL:https://jccannarbor.org/event/detroit-mad-science/2026-04-30/
LOCATION:The J\, 2935 Birch Hollow Dr.\, Ann Arbor\, MI\, 48108\, United States
CATEGORIES:Youth
GEO:42.239759;-83.722389
X-APPLE-STRUCTURED-LOCATION;VALUE=URI;X-ADDRESS=The J 2935 Birch Hollow Dr. Ann Arbor MI 48108 United States;X-APPLE-RADIUS=500;X-TITLE=2935 Birch Hollow Dr.:geo:-83.722389,42.239759
END:VEVENT
BEGIN:VEVENT
DTSTART;VALUE=DATE:20260503
DTEND;VALUE=DATE:20260514
DTSTAMP:20260425T085723
CREATED:20260318T202212Z
LAST-MODIFIED:20260318T202302Z
UID:10008002-1777766400-1778716799@jccannarbor.org
SUMMARY:2026 Ann Arbor Jewish Film Festival
DESCRIPTION:View Film Festival Homepage
URL:https://jccannarbor.org/event/2026-ann-arbor-jewish-film-festival/
LOCATION:State Theatre\, 233 South State Street\, Ann Arbor\, MI\, 48104\, United States
CATEGORIES:Adults,Cultural Arts,Film Festival,Youth
ATTACH;FMTTYPE=image/jpeg:https://jccannarbor.org/wp-content/uploads/2026/03/Copy-of-JCC-Maccabi-Website.jpg
END:VEVENT
BEGIN:VEVENT
DTSTART;TZID=America/Detroit:20260503T133000
DTEND;TZID=America/Detroit:20260503T143000
DTSTAMP:20260425T085723
CREATED:20260318T203131Z
LAST-MODIFIED:20260424T162549Z
UID:10008003-1777815000-1777818600@jccannarbor.org
SUMMARY:"TOVAH" Film Showing
DESCRIPTION:Purchase Tickets
URL:https://jccannarbor.org/event/tovah-film-showing/
LOCATION:State Theatre\, 233 South State Street\, Ann Arbor\, MI\, 48104\, United States
CATEGORIES:Adults,Cultural Arts,Film Festival,Older Adults
END:VEVENT
BEGIN:VEVENT
DTSTART;TZID=America/Detroit:20260503T183000
DTEND;TZID=America/Detroit:20260503T203000
DTSTAMP:20260425T085723
CREATED:20260318T203308Z
LAST-MODIFIED:20260424T162714Z
UID:10008004-1777833000-1777840200@jccannarbor.org
SUMMARY:"The Pianist's Choice" Film Showing
DESCRIPTION:Purchase Tickets
URL:https://jccannarbor.org/event/the-pianists-choice-film-showing/
LOCATION:State Theatre\, 233 South State Street\, Ann Arbor\, MI\, 48104\, United States
CATEGORIES:Adults,Cultural Arts,Film Festival,Older Adults
END:VEVENT
BEGIN:VEVENT
DTSTART;TZID=America/Detroit:20260504T153000
DTEND;TZID=America/Detroit:20260504T170000
DTSTAMP:20260425T085723
CREATED:20260424T173337Z
LAST-MODIFIED:20260424T173401Z
UID:10008049-1777908600-1777914000@jccannarbor.org
SUMMARY:Sefer Squad
DESCRIPTION:Registration for this program has now closed.
URL:https://jccannarbor.org/event/sefer-squad/2026-05-04/
LOCATION:The J\, 2935 Birch Hollow Dr.\, Ann Arbor\, MI\, 48108\, United States
CATEGORIES:Youth
GEO:42.239759;-83.722389
X-APPLE-STRUCTURED-LOCATION;VALUE=URI;X-ADDRESS=The J 2935 Birch Hollow Dr. Ann Arbor MI 48108 United States;X-APPLE-RADIUS=500;X-TITLE=2935 Birch Hollow Dr.:geo:-83.722389,42.239759
END:VEVENT
END:VCALENDAR