BEGIN:VCALENDAR
VERSION:2.0
PRODID:-//The J of Greater Ann Arbor - ECPv6.15.18//NONSGML v1.0//EN
CALSCALE:GREGORIAN
METHOD:PUBLISH
X-WR-CALNAME:The J of Greater Ann Arbor
X-ORIGINAL-URL:https://jccannarbor.org
X-WR-CALDESC:Events for The J of Greater Ann Arbor
REFRESH-INTERVAL;VALUE=DURATION:PT1H
X-Robots-Tag:noindex
X-PUBLISHED-TTL:PT1H
BEGIN:VTIMEZONE
TZID:America/Detroit
BEGIN:DAYLIGHT
TZOFFSETFROM:-0500
TZOFFSETTO:-0400
TZNAME:EDT
DTSTART:20250309T070000
END:DAYLIGHT
BEGIN:STANDARD
TZOFFSETFROM:-0400
TZOFFSETTO:-0500
TZNAME:EST
DTSTART:20251102T060000
END:STANDARD
BEGIN:DAYLIGHT
TZOFFSETFROM:-0500
TZOFFSETTO:-0400
TZNAME:EDT
DTSTART:20260308T070000
END:DAYLIGHT
BEGIN:STANDARD
TZOFFSETFROM:-0400
TZOFFSETTO:-0500
TZNAME:EST
DTSTART:20261101T060000
END:STANDARD
BEGIN:DAYLIGHT
TZOFFSETFROM:-0500
TZOFFSETTO:-0400
TZNAME:EDT
DTSTART:20270314T070000
END:DAYLIGHT
BEGIN:STANDARD
TZOFFSETFROM:-0400
TZOFFSETTO:-0500
TZNAME:EST
DTSTART:20271107T060000
END:STANDARD
END:VTIMEZONE
BEGIN:VEVENT
DTSTART;TZID=America/Detroit:20260629T153000
DTEND;TZID=America/Detroit:20260629T170000
DTSTAMP:20260425T192410
CREATED:20260424T173337Z
LAST-MODIFIED:20260424T173401Z
UID:10008057-1782747000-1782752400@jccannarbor.org
SUMMARY:Sefer Squad
DESCRIPTION:Registration for this program has now closed.
URL:https://jccannarbor.org/event/sefer-squad/2026-06-29/
LOCATION:The J\, 2935 Birch Hollow Dr.\, Ann Arbor\, MI\, 48108\, United States
CATEGORIES:Youth
GEO:42.239759;-83.722389
X-APPLE-STRUCTURED-LOCATION;VALUE=URI;X-ADDRESS=The J 2935 Birch Hollow Dr. Ann Arbor MI 48108 United States;X-APPLE-RADIUS=500;X-TITLE=2935 Birch Hollow Dr.:geo:-83.722389,42.239759
END:VEVENT
BEGIN:VEVENT
DTSTART;VALUE=DATE:20260704
DTEND;VALUE=DATE:20260705
DTSTAMP:20260425T192410
CREATED:20250821T185442Z
LAST-MODIFIED:20250821T185442Z
UID:10006244-1783123200-1783209599@jccannarbor.org
SUMMARY:Independence Day
DESCRIPTION:
URL:https://jccannarbor.org/event/independence-day-2/
LOCATION:The J\, 2935 Birch Hollow Dr.\, Ann Arbor\, MI\, 48108\, United States
GEO:42.239759;-83.722389
X-APPLE-STRUCTURED-LOCATION;VALUE=URI;X-ADDRESS=The J 2935 Birch Hollow Dr. Ann Arbor MI 48108 United States;X-APPLE-RADIUS=500;X-TITLE=2935 Birch Hollow Dr.:geo:-83.722389,42.239759
END:VEVENT
BEGIN:VEVENT
DTSTART;TZID=America/Detroit:20260706T153000
DTEND;TZID=America/Detroit:20260706T170000
DTSTAMP:20260425T192410
CREATED:20260424T173337Z
LAST-MODIFIED:20260424T173401Z
UID:10008058-1783351800-1783357200@jccannarbor.org
SUMMARY:Sefer Squad
DESCRIPTION:Registration for this program has now closed.
URL:https://jccannarbor.org/event/sefer-squad/2026-07-06/
LOCATION:The J\, 2935 Birch Hollow Dr.\, Ann Arbor\, MI\, 48108\, United States
CATEGORIES:Youth
GEO:42.239759;-83.722389
X-APPLE-STRUCTURED-LOCATION;VALUE=URI;X-ADDRESS=The J 2935 Birch Hollow Dr. Ann Arbor MI 48108 United States;X-APPLE-RADIUS=500;X-TITLE=2935 Birch Hollow Dr.:geo:-83.722389,42.239759
END:VEVENT
BEGIN:VEVENT
DTSTART;TZID=America/Detroit:20260713T153000
DTEND;TZID=America/Detroit:20260713T170000
DTSTAMP:20260425T192410
CREATED:20260424T173337Z
LAST-MODIFIED:20260424T173401Z
UID:10008059-1783956600-1783962000@jccannarbor.org
SUMMARY:Sefer Squad
DESCRIPTION:Registration for this program has now closed.
URL:https://jccannarbor.org/event/sefer-squad/2026-07-13/
LOCATION:The J\, 2935 Birch Hollow Dr.\, Ann Arbor\, MI\, 48108\, United States
CATEGORIES:Youth
GEO:42.239759;-83.722389
X-APPLE-STRUCTURED-LOCATION;VALUE=URI;X-ADDRESS=The J 2935 Birch Hollow Dr. Ann Arbor MI 48108 United States;X-APPLE-RADIUS=500;X-TITLE=2935 Birch Hollow Dr.:geo:-83.722389,42.239759
END:VEVENT
BEGIN:VEVENT
DTSTART;TZID=America/Detroit:20260720T153000
DTEND;TZID=America/Detroit:20260720T170000
DTSTAMP:20260425T192410
CREATED:20260424T173337Z
LAST-MODIFIED:20260424T173401Z
UID:10008060-1784561400-1784566800@jccannarbor.org
SUMMARY:Sefer Squad
DESCRIPTION:Registration for this program has now closed.
URL:https://jccannarbor.org/event/sefer-squad/2026-07-20/
LOCATION:The J\, 2935 Birch Hollow Dr.\, Ann Arbor\, MI\, 48108\, United States
CATEGORIES:Youth
GEO:42.239759;-83.722389
X-APPLE-STRUCTURED-LOCATION;VALUE=URI;X-ADDRESS=The J 2935 Birch Hollow Dr. Ann Arbor MI 48108 United States;X-APPLE-RADIUS=500;X-TITLE=2935 Birch Hollow Dr.:geo:-83.722389,42.239759
END:VEVENT
BEGIN:VEVENT
DTSTART;VALUE=DATE:20260722
DTEND;VALUE=DATE:20260724
DTSTAMP:20260425T192410
CREATED:20250821T185524Z
LAST-MODIFIED:20250821T185524Z
UID:10006245-1784678400-1784851199@jccannarbor.org
SUMMARY:Tisha B'Av
DESCRIPTION:
URL:https://jccannarbor.org/event/tisha-bav/
LOCATION:The J\, 2935 Birch Hollow Dr.\, Ann Arbor\, MI\, 48108\, United States
GEO:42.239759;-83.722389
X-APPLE-STRUCTURED-LOCATION;VALUE=URI;X-ADDRESS=The J 2935 Birch Hollow Dr. Ann Arbor MI 48108 United States;X-APPLE-RADIUS=500;X-TITLE=2935 Birch Hollow Dr.:geo:-83.722389,42.239759
END:VEVENT
BEGIN:VEVENT
DTSTART;TZID=America/Detroit:20260723T140000
DTEND;TZID=America/Detroit:20260723T160000
DTSTAMP:20260425T192410
CREATED:20250821T163851Z
LAST-MODIFIED:20250821T163851Z
UID:10006210-1784815200-1784822400@jccannarbor.org
SUMMARY:Amulet Making
DESCRIPTION:
URL:https://jccannarbor.org/event/amulet-making/
LOCATION:The J\, 2935 Birch Hollow Dr.\, Ann Arbor\, MI\, 48108\, United States
CATEGORIES:Cultural Arts
GEO:42.239759;-83.722389
X-APPLE-STRUCTURED-LOCATION;VALUE=URI;X-ADDRESS=The J 2935 Birch Hollow Dr. Ann Arbor MI 48108 United States;X-APPLE-RADIUS=500;X-TITLE=2935 Birch Hollow Dr.:geo:-83.722389,42.239759
END:VEVENT
BEGIN:VEVENT
DTSTART;TZID=America/Detroit:20260723T183000
DTEND;TZID=America/Detroit:20260723T193000
DTSTAMP:20260425T192410
CREATED:20250821T164035Z
LAST-MODIFIED:20251022T230928Z
UID:10006211-1784831400-1784835000@jccannarbor.org
SUMMARY:Jewish Magic: Clare\, Bardugo\, Gold\, Yarros
DESCRIPTION:
URL:https://jccannarbor.org/event/jewish-magic-clare-bardugo-gold-yarros/
LOCATION:The J\, 2935 Birch Hollow Dr.\, Ann Arbor\, MI\, 48108\, United States
CATEGORIES:Book Festival
GEO:42.239759;-83.722389
X-APPLE-STRUCTURED-LOCATION;VALUE=URI;X-ADDRESS=The J 2935 Birch Hollow Dr. Ann Arbor MI 48108 United States;X-APPLE-RADIUS=500;X-TITLE=2935 Birch Hollow Dr.:geo:-83.722389,42.239759
END:VEVENT
BEGIN:VEVENT
DTSTART;TZID=America/Detroit:20260726T140000
DTEND;TZID=America/Detroit:20260726T170000
DTSTAMP:20260425T192410
CREATED:20250821T173647Z
LAST-MODIFIED:20250821T173647Z
UID:10006217-1785074400-1785085200@jccannarbor.org
SUMMARY:Summer Carnivale
DESCRIPTION:
URL:https://jccannarbor.org/event/summer-carnivale-2/
LOCATION:The J\, 2935 Birch Hollow Dr.\, Ann Arbor\, MI\, 48108\, United States
CATEGORIES:Cultural Arts
GEO:42.239759;-83.722389
X-APPLE-STRUCTURED-LOCATION;VALUE=URI;X-ADDRESS=The J 2935 Birch Hollow Dr. Ann Arbor MI 48108 United States;X-APPLE-RADIUS=500;X-TITLE=2935 Birch Hollow Dr.:geo:-83.722389,42.239759
END:VEVENT
BEGIN:VEVENT
DTSTART;TZID=America/Detroit:20260727T153000
DTEND;TZID=America/Detroit:20260727T170000
DTSTAMP:20260425T192410
CREATED:20260424T173337Z
LAST-MODIFIED:20260424T173401Z
UID:10008061-1785166200-1785171600@jccannarbor.org
SUMMARY:Sefer Squad
DESCRIPTION:Registration for this program has now closed.
URL:https://jccannarbor.org/event/sefer-squad/2026-07-27/
LOCATION:The J\, 2935 Birch Hollow Dr.\, Ann Arbor\, MI\, 48108\, United States
CATEGORIES:Youth
GEO:42.239759;-83.722389
X-APPLE-STRUCTURED-LOCATION;VALUE=URI;X-ADDRESS=The J 2935 Birch Hollow Dr. Ann Arbor MI 48108 United States;X-APPLE-RADIUS=500;X-TITLE=2935 Birch Hollow Dr.:geo:-83.722389,42.239759
END:VEVENT
BEGIN:VEVENT
DTSTART;VALUE=DATE:20260729
DTEND;VALUE=DATE:20260730
DTSTAMP:20260425T192410
CREATED:20250821T185554Z
LAST-MODIFIED:20250821T185554Z
UID:10006246-1785283200-1785369599@jccannarbor.org
SUMMARY:Tu B'Av
DESCRIPTION:
URL:https://jccannarbor.org/event/tu-bav/
LOCATION:The J\, 2935 Birch Hollow Dr.\, Ann Arbor\, MI\, 48108\, United States
GEO:42.239759;-83.722389
X-APPLE-STRUCTURED-LOCATION;VALUE=URI;X-ADDRESS=The J 2935 Birch Hollow Dr. Ann Arbor MI 48108 United States;X-APPLE-RADIUS=500;X-TITLE=2935 Birch Hollow Dr.:geo:-83.722389,42.239759
END:VEVENT
BEGIN:VEVENT
DTSTART;VALUE=DATE:20260802
DTEND;VALUE=DATE:20260808
DTSTAMP:20260425T192410
CREATED:20251022T231231Z
LAST-MODIFIED:20260316T191849Z
UID:10007692-1785628800-1786147199@jccannarbor.org
SUMMARY:2026 JCC Maccabi Games
DESCRIPTION:Visit Main Team Ann Arbor JCC Maccabi Games Page
URL:https://jccannarbor.org/event/2026-jcc-maccabi-games/
LOCATION:Toronto\, Ontario
CATEGORIES:Youth
ATTACH;FMTTYPE=image/jpeg:https://jccannarbor.org/wp-content/uploads/2025/10/Copy-of-JCC-Maccabi-Website-2.jpg
END:VEVENT
BEGIN:VEVENT
DTSTART;TZID=America/Detroit:20260803T153000
DTEND;TZID=America/Detroit:20260803T170000
DTSTAMP:20260425T192410
CREATED:20260424T173337Z
LAST-MODIFIED:20260424T173401Z
UID:10008062-1785771000-1785776400@jccannarbor.org
SUMMARY:Sefer Squad
DESCRIPTION:Registration for this program has now closed.
URL:https://jccannarbor.org/event/sefer-squad/2026-08-03/
LOCATION:The J\, 2935 Birch Hollow Dr.\, Ann Arbor\, MI\, 48108\, United States
CATEGORIES:Youth
GEO:42.239759;-83.722389
X-APPLE-STRUCTURED-LOCATION;VALUE=URI;X-ADDRESS=The J 2935 Birch Hollow Dr. Ann Arbor MI 48108 United States;X-APPLE-RADIUS=500;X-TITLE=2935 Birch Hollow Dr.:geo:-83.722389,42.239759
END:VEVENT
BEGIN:VEVENT
DTSTART;TZID=America/Detroit:20260810T153000
DTEND;TZID=America/Detroit:20260810T170000
DTSTAMP:20260425T192410
CREATED:20260424T173337Z
LAST-MODIFIED:20260424T173401Z
UID:10008063-1786375800-1786381200@jccannarbor.org
SUMMARY:Sefer Squad
DESCRIPTION:Registration for this program has now closed.
URL:https://jccannarbor.org/event/sefer-squad/2026-08-10/
LOCATION:The J\, 2935 Birch Hollow Dr.\, Ann Arbor\, MI\, 48108\, United States
CATEGORIES:Youth
GEO:42.239759;-83.722389
X-APPLE-STRUCTURED-LOCATION;VALUE=URI;X-ADDRESS=The J 2935 Birch Hollow Dr. Ann Arbor MI 48108 United States;X-APPLE-RADIUS=500;X-TITLE=2935 Birch Hollow Dr.:geo:-83.722389,42.239759
END:VEVENT
BEGIN:VEVENT
DTSTART;TZID=America/Detroit:20260817T153000
DTEND;TZID=America/Detroit:20260817T170000
DTSTAMP:20260425T192410
CREATED:20260424T173337Z
LAST-MODIFIED:20260424T173401Z
UID:10008064-1786980600-1786986000@jccannarbor.org
SUMMARY:Sefer Squad
DESCRIPTION:Registration for this program has now closed.
URL:https://jccannarbor.org/event/sefer-squad/2026-08-17/
LOCATION:The J\, 2935 Birch Hollow Dr.\, Ann Arbor\, MI\, 48108\, United States
CATEGORIES:Youth
GEO:42.239759;-83.722389
X-APPLE-STRUCTURED-LOCATION;VALUE=URI;X-ADDRESS=The J 2935 Birch Hollow Dr. Ann Arbor MI 48108 United States;X-APPLE-RADIUS=500;X-TITLE=2935 Birch Hollow Dr.:geo:-83.722389,42.239759
END:VEVENT
BEGIN:VEVENT
DTSTART;TZID=America/Detroit:20260820T173000
DTEND;TZID=America/Detroit:20260820T203000
DTSTAMP:20260425T192410
CREATED:20250821T173740Z
LAST-MODIFIED:20250821T173740Z
UID:10006218-1787247000-1787257800@jccannarbor.org
SUMMARY:Cantor Concert
DESCRIPTION:
URL:https://jccannarbor.org/event/cantor-concert/
LOCATION:The J\, 2935 Birch Hollow Dr.\, Ann Arbor\, MI\, 48108\, United States
CATEGORIES:Cultural Arts
GEO:42.239759;-83.722389
X-APPLE-STRUCTURED-LOCATION;VALUE=URI;X-ADDRESS=The J 2935 Birch Hollow Dr. Ann Arbor MI 48108 United States;X-APPLE-RADIUS=500;X-TITLE=2935 Birch Hollow Dr.:geo:-83.722389,42.239759
END:VEVENT
BEGIN:VEVENT
DTSTART;TZID=America/Detroit:20260824T153000
DTEND;TZID=America/Detroit:20260824T170000
DTSTAMP:20260425T192410
CREATED:20260424T173337Z
LAST-MODIFIED:20260424T173401Z
UID:10008065-1787585400-1787590800@jccannarbor.org
SUMMARY:Sefer Squad
DESCRIPTION:Registration for this program has now closed.
URL:https://jccannarbor.org/event/sefer-squad/2026-08-24/
LOCATION:The J\, 2935 Birch Hollow Dr.\, Ann Arbor\, MI\, 48108\, United States
CATEGORIES:Youth
GEO:42.239759;-83.722389
X-APPLE-STRUCTURED-LOCATION;VALUE=URI;X-ADDRESS=The J 2935 Birch Hollow Dr. Ann Arbor MI 48108 United States;X-APPLE-RADIUS=500;X-TITLE=2935 Birch Hollow Dr.:geo:-83.722389,42.239759
END:VEVENT
BEGIN:VEVENT
DTSTART;TZID=America/Detroit:20260826T120000
DTEND;TZID=America/Detroit:20260826T180000
DTSTAMP:20260425T192410
CREATED:20251023T201039Z
LAST-MODIFIED:20251023T201039Z
UID:10007693-1787745600-1787767200@jccannarbor.org
SUMMARY:Annual Blood Drive
DESCRIPTION:
URL:https://jccannarbor.org/event/annual-blood-drive-2/
LOCATION:The J\, 2935 Birch Hollow Dr.\, Ann Arbor\, MI\, 48108\, United States
CATEGORIES:Adults
GEO:42.239759;-83.722389
X-APPLE-STRUCTURED-LOCATION;VALUE=URI;X-ADDRESS=The J 2935 Birch Hollow Dr. Ann Arbor MI 48108 United States;X-APPLE-RADIUS=500;X-TITLE=2935 Birch Hollow Dr.:geo:-83.722389,42.239759
END:VEVENT
BEGIN:VEVENT
DTSTART;TZID=America/Detroit:20260827T140000
DTEND;TZID=America/Detroit:20260827T160000
DTSTAMP:20260425T192410
CREATED:20250821T170215Z
LAST-MODIFIED:20250821T170215Z
UID:10006212-1787839200-1787846400@jccannarbor.org
SUMMARY:Dancing with Muddy by Jerry Portnoy
DESCRIPTION:
URL:https://jccannarbor.org/event/dancing-with-muddy-by-jerry-portnoy/
LOCATION:Third Mind Books\, 118 E Washington St\, Ann Arbor\, 48104\, United States
CATEGORIES:Book Festival
END:VEVENT
BEGIN:VEVENT
DTSTART;TZID=America/Detroit:20260831T153000
DTEND;TZID=America/Detroit:20260831T170000
DTSTAMP:20260425T192410
CREATED:20260424T173337Z
LAST-MODIFIED:20260424T173401Z
UID:10008066-1788190200-1788195600@jccannarbor.org
SUMMARY:Sefer Squad
DESCRIPTION:Registration for this program has now closed.
URL:https://jccannarbor.org/event/sefer-squad/2026-08-31/
LOCATION:The J\, 2935 Birch Hollow Dr.\, Ann Arbor\, MI\, 48108\, United States
CATEGORIES:Youth
GEO:42.239759;-83.722389
X-APPLE-STRUCTURED-LOCATION;VALUE=URI;X-ADDRESS=The J 2935 Birch Hollow Dr. Ann Arbor MI 48108 United States;X-APPLE-RADIUS=500;X-TITLE=2935 Birch Hollow Dr.:geo:-83.722389,42.239759
END:VEVENT
BEGIN:VEVENT
DTSTART;TZID=America/Detroit:20260907T153000
DTEND;TZID=America/Detroit:20260907T170000
DTSTAMP:20260425T192410
CREATED:20260424T173337Z
LAST-MODIFIED:20260424T173401Z
UID:10008067-1788795000-1788800400@jccannarbor.org
SUMMARY:Sefer Squad
DESCRIPTION:Registration for this program has now closed.
URL:https://jccannarbor.org/event/sefer-squad/2026-09-07/
LOCATION:The J\, 2935 Birch Hollow Dr.\, Ann Arbor\, MI\, 48108\, United States
CATEGORIES:Youth
GEO:42.239759;-83.722389
X-APPLE-STRUCTURED-LOCATION;VALUE=URI;X-ADDRESS=The J 2935 Birch Hollow Dr. Ann Arbor MI 48108 United States;X-APPLE-RADIUS=500;X-TITLE=2935 Birch Hollow Dr.:geo:-83.722389,42.239759
END:VEVENT
BEGIN:VEVENT
DTSTART;TZID=America/Detroit:20260914T153000
DTEND;TZID=America/Detroit:20260914T170000
DTSTAMP:20260425T192410
CREATED:20260424T173337Z
LAST-MODIFIED:20260424T173401Z
UID:10008068-1789399800-1789405200@jccannarbor.org
SUMMARY:Sefer Squad
DESCRIPTION:Registration for this program has now closed.
URL:https://jccannarbor.org/event/sefer-squad/2026-09-14/
LOCATION:The J\, 2935 Birch Hollow Dr.\, Ann Arbor\, MI\, 48108\, United States
CATEGORIES:Youth
GEO:42.239759;-83.722389
X-APPLE-STRUCTURED-LOCATION;VALUE=URI;X-ADDRESS=The J 2935 Birch Hollow Dr. Ann Arbor MI 48108 United States;X-APPLE-RADIUS=500;X-TITLE=2935 Birch Hollow Dr.:geo:-83.722389,42.239759
END:VEVENT
BEGIN:VEVENT
DTSTART;TZID=America/Detroit:20260921T153000
DTEND;TZID=America/Detroit:20260921T170000
DTSTAMP:20260425T192410
CREATED:20260424T173337Z
LAST-MODIFIED:20260424T173401Z
UID:10008069-1790004600-1790010000@jccannarbor.org
SUMMARY:Sefer Squad
DESCRIPTION:Registration for this program has now closed.
URL:https://jccannarbor.org/event/sefer-squad/2026-09-21/
LOCATION:The J\, 2935 Birch Hollow Dr.\, Ann Arbor\, MI\, 48108\, United States
CATEGORIES:Youth
GEO:42.239759;-83.722389
X-APPLE-STRUCTURED-LOCATION;VALUE=URI;X-ADDRESS=The J 2935 Birch Hollow Dr. Ann Arbor MI 48108 United States;X-APPLE-RADIUS=500;X-TITLE=2935 Birch Hollow Dr.:geo:-83.722389,42.239759
END:VEVENT
BEGIN:VEVENT
DTSTART;TZID=America/Detroit:20260928T153000
DTEND;TZID=America/Detroit:20260928T170000
DTSTAMP:20260425T192410
CREATED:20260424T173337Z
LAST-MODIFIED:20260424T173401Z
UID:10008070-1790609400-1790614800@jccannarbor.org
SUMMARY:Sefer Squad
DESCRIPTION:Registration for this program has now closed.
URL:https://jccannarbor.org/event/sefer-squad/2026-09-28/
LOCATION:The J\, 2935 Birch Hollow Dr.\, Ann Arbor\, MI\, 48108\, United States
CATEGORIES:Youth
GEO:42.239759;-83.722389
X-APPLE-STRUCTURED-LOCATION;VALUE=URI;X-ADDRESS=The J 2935 Birch Hollow Dr. Ann Arbor MI 48108 United States;X-APPLE-RADIUS=500;X-TITLE=2935 Birch Hollow Dr.:geo:-83.722389,42.239759
END:VEVENT
BEGIN:VEVENT
DTSTART;TZID=America/Detroit:20261005T153000
DTEND;TZID=America/Detroit:20261005T170000
DTSTAMP:20260425T192410
CREATED:20260424T173337Z
LAST-MODIFIED:20260424T173401Z
UID:10008071-1791214200-1791219600@jccannarbor.org
SUMMARY:Sefer Squad
DESCRIPTION:Registration for this program has now closed.
URL:https://jccannarbor.org/event/sefer-squad/2026-10-05/
LOCATION:The J\, 2935 Birch Hollow Dr.\, Ann Arbor\, MI\, 48108\, United States
CATEGORIES:Youth
GEO:42.239759;-83.722389
X-APPLE-STRUCTURED-LOCATION;VALUE=URI;X-ADDRESS=The J 2935 Birch Hollow Dr. Ann Arbor MI 48108 United States;X-APPLE-RADIUS=500;X-TITLE=2935 Birch Hollow Dr.:geo:-83.722389,42.239759
END:VEVENT
BEGIN:VEVENT
DTSTART;TZID=America/Detroit:20261012T153000
DTEND;TZID=America/Detroit:20261012T170000
DTSTAMP:20260425T192410
CREATED:20260424T173337Z
LAST-MODIFIED:20260424T173401Z
UID:10008072-1791819000-1791824400@jccannarbor.org
SUMMARY:Sefer Squad
DESCRIPTION:Registration for this program has now closed.
URL:https://jccannarbor.org/event/sefer-squad/2026-10-12/
LOCATION:The J\, 2935 Birch Hollow Dr.\, Ann Arbor\, MI\, 48108\, United States
CATEGORIES:Youth
GEO:42.239759;-83.722389
X-APPLE-STRUCTURED-LOCATION;VALUE=URI;X-ADDRESS=The J 2935 Birch Hollow Dr. Ann Arbor MI 48108 United States;X-APPLE-RADIUS=500;X-TITLE=2935 Birch Hollow Dr.:geo:-83.722389,42.239759
END:VEVENT
BEGIN:VEVENT
DTSTART;TZID=America/Detroit:20261019T153000
DTEND;TZID=America/Detroit:20261019T170000
DTSTAMP:20260425T192410
CREATED:20260424T173337Z
LAST-MODIFIED:20260424T173401Z
UID:10008073-1792423800-1792429200@jccannarbor.org
SUMMARY:Sefer Squad
DESCRIPTION:Registration for this program has now closed.
URL:https://jccannarbor.org/event/sefer-squad/2026-10-19/
LOCATION:The J\, 2935 Birch Hollow Dr.\, Ann Arbor\, MI\, 48108\, United States
CATEGORIES:Youth
GEO:42.239759;-83.722389
X-APPLE-STRUCTURED-LOCATION;VALUE=URI;X-ADDRESS=The J 2935 Birch Hollow Dr. Ann Arbor MI 48108 United States;X-APPLE-RADIUS=500;X-TITLE=2935 Birch Hollow Dr.:geo:-83.722389,42.239759
END:VEVENT
BEGIN:VEVENT
DTSTART;TZID=America/Detroit:20261026T153000
DTEND;TZID=America/Detroit:20261026T170000
DTSTAMP:20260425T192410
CREATED:20260424T173337Z
LAST-MODIFIED:20260424T173401Z
UID:10008074-1793028600-1793034000@jccannarbor.org
SUMMARY:Sefer Squad
DESCRIPTION:Registration for this program has now closed.
URL:https://jccannarbor.org/event/sefer-squad/2026-10-26/
LOCATION:The J\, 2935 Birch Hollow Dr.\, Ann Arbor\, MI\, 48108\, United States
CATEGORIES:Youth
GEO:42.239759;-83.722389
X-APPLE-STRUCTURED-LOCATION;VALUE=URI;X-ADDRESS=The J 2935 Birch Hollow Dr. Ann Arbor MI 48108 United States;X-APPLE-RADIUS=500;X-TITLE=2935 Birch Hollow Dr.:geo:-83.722389,42.239759
END:VEVENT
BEGIN:VEVENT
DTSTART;TZID=America/Detroit:20261102T153000
DTEND;TZID=America/Detroit:20261102T170000
DTSTAMP:20260425T192410
CREATED:20260424T173337Z
LAST-MODIFIED:20260424T173401Z
UID:10008075-1793633400-1793638800@jccannarbor.org
SUMMARY:Sefer Squad
DESCRIPTION:Registration for this program has now closed.
URL:https://jccannarbor.org/event/sefer-squad/2026-11-02/
LOCATION:The J\, 2935 Birch Hollow Dr.\, Ann Arbor\, MI\, 48108\, United States
CATEGORIES:Youth
GEO:42.239759;-83.722389
X-APPLE-STRUCTURED-LOCATION;VALUE=URI;X-ADDRESS=The J 2935 Birch Hollow Dr. Ann Arbor MI 48108 United States;X-APPLE-RADIUS=500;X-TITLE=2935 Birch Hollow Dr.:geo:-83.722389,42.239759
END:VEVENT
BEGIN:VEVENT
DTSTART;TZID=America/Detroit:20261109T153000
DTEND;TZID=America/Detroit:20261109T170000
DTSTAMP:20260425T192410
CREATED:20260424T173337Z
LAST-MODIFIED:20260424T173401Z
UID:10008076-1794238200-1794243600@jccannarbor.org
SUMMARY:Sefer Squad
DESCRIPTION:Registration for this program has now closed.
URL:https://jccannarbor.org/event/sefer-squad/2026-11-09/
LOCATION:The J\, 2935 Birch Hollow Dr.\, Ann Arbor\, MI\, 48108\, United States
CATEGORIES:Youth
GEO:42.239759;-83.722389
X-APPLE-STRUCTURED-LOCATION;VALUE=URI;X-ADDRESS=The J 2935 Birch Hollow Dr. Ann Arbor MI 48108 United States;X-APPLE-RADIUS=500;X-TITLE=2935 Birch Hollow Dr.:geo:-83.722389,42.239759
END:VEVENT
END:VCALENDAR