BEGIN:VCALENDAR
VERSION:2.0
PRODID:-//The J of Greater Ann Arbor - ECPv6.15.18//NONSGML v1.0//EN
CALSCALE:GREGORIAN
METHOD:PUBLISH
X-WR-CALNAME:The J of Greater Ann Arbor
X-ORIGINAL-URL:https://jccannarbor.org
X-WR-CALDESC:Events for The J of Greater Ann Arbor
REFRESH-INTERVAL;VALUE=DURATION:PT1H
X-Robots-Tag:noindex
X-PUBLISHED-TTL:PT1H
BEGIN:VTIMEZONE
TZID:America/Detroit
BEGIN:DAYLIGHT
TZOFFSETFROM:-0500
TZOFFSETTO:-0400
TZNAME:EDT
DTSTART:20250309T070000
END:DAYLIGHT
BEGIN:STANDARD
TZOFFSETFROM:-0400
TZOFFSETTO:-0500
TZNAME:EST
DTSTART:20251102T060000
END:STANDARD
BEGIN:DAYLIGHT
TZOFFSETFROM:-0500
TZOFFSETTO:-0400
TZNAME:EDT
DTSTART:20260308T070000
END:DAYLIGHT
BEGIN:STANDARD
TZOFFSETFROM:-0400
TZOFFSETTO:-0500
TZNAME:EST
DTSTART:20261101T060000
END:STANDARD
BEGIN:DAYLIGHT
TZOFFSETFROM:-0500
TZOFFSETTO:-0400
TZNAME:EDT
DTSTART:20270314T070000
END:DAYLIGHT
BEGIN:STANDARD
TZOFFSETFROM:-0400
TZOFFSETTO:-0500
TZNAME:EST
DTSTART:20271107T060000
END:STANDARD
END:VTIMEZONE
BEGIN:VEVENT
DTSTART;TZID=America/Detroit:20260506T153000
DTEND;TZID=America/Detroit:20260506T163000
DTSTAMP:20260425T074007
CREATED:20260424T180101Z
LAST-MODIFIED:20260424T180101Z
UID:10008170-1778081400-1778085000@jccannarbor.org
SUMMARY:Klez Kids
DESCRIPTION:
URL:https://jccannarbor.org/event/klez-kids/2026-05-06/
LOCATION:The J\, 2935 Birch Hollow Dr.\, Ann Arbor\, MI\, 48108\, United States
CATEGORIES:Cultural Arts,Youth
GEO:42.239759;-83.722389
X-APPLE-STRUCTURED-LOCATION;VALUE=URI;X-ADDRESS=The J 2935 Birch Hollow Dr. Ann Arbor MI 48108 United States;X-APPLE-RADIUS=500;X-TITLE=2935 Birch Hollow Dr.:geo:-83.722389,42.239759
END:VEVENT
BEGIN:VEVENT
DTSTART;TZID=America/Detroit:20260507T153000
DTEND;TZID=America/Detroit:20260507T163000
DTSTAMP:20260425T074007
CREATED:20260424T180419Z
LAST-MODIFIED:20260424T180528Z
UID:10008178-1778167800-1778171400@jccannarbor.org
SUMMARY:Chess Club
DESCRIPTION:
URL:https://jccannarbor.org/event/chess-club/2026-05-07/
LOCATION:The J\, 2935 Birch Hollow Dr.\, Ann Arbor\, MI\, 48108\, United States
CATEGORIES:Youth
GEO:42.239759;-83.722389
X-APPLE-STRUCTURED-LOCATION;VALUE=URI;X-ADDRESS=The J 2935 Birch Hollow Dr. Ann Arbor MI 48108 United States;X-APPLE-RADIUS=500;X-TITLE=2935 Birch Hollow Dr.:geo:-83.722389,42.239759
END:VEVENT
BEGIN:VEVENT
DTSTART;TZID=America/Detroit:20260507T161500
DTEND;TZID=America/Detroit:20260507T171500
DTSTAMP:20260425T074007
CREATED:20260424T180831Z
LAST-MODIFIED:20260424T180831Z
UID:10008186-1778170500-1778174100@jccannarbor.org
SUMMARY:Detroit Mad Science
DESCRIPTION:
URL:https://jccannarbor.org/event/detroit-mad-science/2026-05-07/
LOCATION:The J\, 2935 Birch Hollow Dr.\, Ann Arbor\, MI\, 48108\, United States
CATEGORIES:Youth
GEO:42.239759;-83.722389
X-APPLE-STRUCTURED-LOCATION;VALUE=URI;X-ADDRESS=The J 2935 Birch Hollow Dr. Ann Arbor MI 48108 United States;X-APPLE-RADIUS=500;X-TITLE=2935 Birch Hollow Dr.:geo:-83.722389,42.239759
END:VEVENT
BEGIN:VEVENT
DTSTART;TZID=America/Detroit:20260511T153000
DTEND;TZID=America/Detroit:20260511T170000
DTSTAMP:20260425T074007
CREATED:20260424T173337Z
LAST-MODIFIED:20260424T173401Z
UID:10008050-1778513400-1778518800@jccannarbor.org
SUMMARY:Sefer Squad
DESCRIPTION:Registration for this program has now closed.
URL:https://jccannarbor.org/event/sefer-squad/2026-05-11/
LOCATION:The J\, 2935 Birch Hollow Dr.\, Ann Arbor\, MI\, 48108\, United States
CATEGORIES:Youth
GEO:42.239759;-83.722389
X-APPLE-STRUCTURED-LOCATION;VALUE=URI;X-ADDRESS=The J 2935 Birch Hollow Dr. Ann Arbor MI 48108 United States;X-APPLE-RADIUS=500;X-TITLE=2935 Birch Hollow Dr.:geo:-83.722389,42.239759
END:VEVENT
BEGIN:VEVENT
DTSTART;TZID=America/Detroit:20260511T153000
DTEND;TZID=America/Detroit:20260511T170000
DTSTAMP:20260425T074007
CREATED:20260424T173634Z
LAST-MODIFIED:20260424T174716Z
UID:10008114-1778513400-1778518800@jccannarbor.org
SUMMARY:Flag Football
DESCRIPTION:
URL:https://jccannarbor.org/event/flag-football/2026-05-11/
LOCATION:The J\, 2935 Birch Hollow Dr.\, Ann Arbor\, MI\, 48108\, United States
CATEGORIES:Youth
GEO:42.239759;-83.722389
X-APPLE-STRUCTURED-LOCATION;VALUE=URI;X-ADDRESS=The J 2935 Birch Hollow Dr. Ann Arbor MI 48108 United States;X-APPLE-RADIUS=500;X-TITLE=2935 Birch Hollow Dr.:geo:-83.722389,42.239759
END:VEVENT
BEGIN:VEVENT
DTSTART;TZID=America/Detroit:20260511T183000
DTEND;TZID=America/Detroit:20260511T200000
DTSTAMP:20260425T074007
CREATED:20260318T204200Z
LAST-MODIFIED:20260424T164006Z
UID:10008008-1778524200-1778529600@jccannarbor.org
SUMMARY:"Girls Like Us" Film Showing
DESCRIPTION:Purchase Tickets
URL:https://jccannarbor.org/event/girls-like-us-film-showing/
LOCATION:State Theatre\, 233 South State Street\, Ann Arbor\, MI\, 48104\, United States
CATEGORIES:Adults,Cultural Arts,Film Festival,Youth
END:VEVENT
BEGIN:VEVENT
DTSTART;TZID=America/Detroit:20260512T153000
DTEND;TZID=America/Detroit:20260512T163000
DTSTAMP:20260425T074007
CREATED:20260424T173940Z
LAST-MODIFIED:20260424T174137Z
UID:10008121-1778599800-1778603400@jccannarbor.org
SUMMARY:Ivrit B'Keif
DESCRIPTION:
URL:https://jccannarbor.org/event/ivrit-bkeif/2026-05-12/
LOCATION:The J\, 2935 Birch Hollow Dr.\, Ann Arbor\, MI\, 48108\, United States
CATEGORIES:Youth
GEO:42.239759;-83.722389
X-APPLE-STRUCTURED-LOCATION;VALUE=URI;X-ADDRESS=The J 2935 Birch Hollow Dr. Ann Arbor MI 48108 United States;X-APPLE-RADIUS=500;X-TITLE=2935 Birch Hollow Dr.:geo:-83.722389,42.239759
END:VEVENT
BEGIN:VEVENT
DTSTART;TZID=America/Detroit:20260512T153000
DTEND;TZID=America/Detroit:20260512T170000
DTSTAMP:20260425T074007
CREATED:20260424T174344Z
LAST-MODIFIED:20260424T175114Z
UID:10008134-1778599800-1778605200@jccannarbor.org
SUMMARY:Card Games
DESCRIPTION:
URL:https://jccannarbor.org/event/card-games/2026-05-12/
LOCATION:The J\, 2935 Birch Hollow Dr.\, Ann Arbor\, MI\, 48108\, United States
CATEGORIES:Youth
GEO:42.239759;-83.722389
X-APPLE-STRUCTURED-LOCATION;VALUE=URI;X-ADDRESS=The J 2935 Birch Hollow Dr. Ann Arbor MI 48108 United States;X-APPLE-RADIUS=500;X-TITLE=2935 Birch Hollow Dr.:geo:-83.722389,42.239759
END:VEVENT
BEGIN:VEVENT
DTSTART;TZID=America/Detroit:20260513T153000
DTEND;TZID=America/Detroit:20260513T163000
DTSTAMP:20260425T074007
CREATED:20260424T180101Z
LAST-MODIFIED:20260424T180101Z
UID:10008171-1778686200-1778689800@jccannarbor.org
SUMMARY:Klez Kids
DESCRIPTION:
URL:https://jccannarbor.org/event/klez-kids/2026-05-13/
LOCATION:The J\, 2935 Birch Hollow Dr.\, Ann Arbor\, MI\, 48108\, United States
CATEGORIES:Cultural Arts,Youth
GEO:42.239759;-83.722389
X-APPLE-STRUCTURED-LOCATION;VALUE=URI;X-ADDRESS=The J 2935 Birch Hollow Dr. Ann Arbor MI 48108 United States;X-APPLE-RADIUS=500;X-TITLE=2935 Birch Hollow Dr.:geo:-83.722389,42.239759
END:VEVENT
BEGIN:VEVENT
DTSTART;TZID=America/Detroit:20260513T190000
DTEND;TZID=America/Detroit:20260513T203000
DTSTAMP:20260425T074007
CREATED:20260318T204924Z
LAST-MODIFIED:20260424T164251Z
UID:10008011-1778698800-1778704200@jccannarbor.org
SUMMARY:"Yaniv" Film Showing
DESCRIPTION:Purchase Tickets
URL:https://jccannarbor.org/event/yaniv-film-showing/
LOCATION:Morris Lawrence Building\, 4800 E Huron River Dr\, Ann Arbor\, MI\, 48104\, United States
CATEGORIES:Adults,Cultural Arts,Film Festival,Youth
END:VEVENT
BEGIN:VEVENT
DTSTART;TZID=America/Detroit:20260514T153000
DTEND;TZID=America/Detroit:20260514T163000
DTSTAMP:20260425T074007
CREATED:20260424T180419Z
LAST-MODIFIED:20260424T180528Z
UID:10008179-1778772600-1778776200@jccannarbor.org
SUMMARY:Chess Club
DESCRIPTION:
URL:https://jccannarbor.org/event/chess-club/2026-05-14/
LOCATION:The J\, 2935 Birch Hollow Dr.\, Ann Arbor\, MI\, 48108\, United States
CATEGORIES:Youth
GEO:42.239759;-83.722389
X-APPLE-STRUCTURED-LOCATION;VALUE=URI;X-ADDRESS=The J 2935 Birch Hollow Dr. Ann Arbor MI 48108 United States;X-APPLE-RADIUS=500;X-TITLE=2935 Birch Hollow Dr.:geo:-83.722389,42.239759
END:VEVENT
BEGIN:VEVENT
DTSTART;TZID=America/Detroit:20260514T161500
DTEND;TZID=America/Detroit:20260514T171500
DTSTAMP:20260425T074007
CREATED:20260424T180831Z
LAST-MODIFIED:20260424T180831Z
UID:10008187-1778775300-1778778900@jccannarbor.org
SUMMARY:Detroit Mad Science
DESCRIPTION:
URL:https://jccannarbor.org/event/detroit-mad-science/2026-05-14/
LOCATION:The J\, 2935 Birch Hollow Dr.\, Ann Arbor\, MI\, 48108\, United States
CATEGORIES:Youth
GEO:42.239759;-83.722389
X-APPLE-STRUCTURED-LOCATION;VALUE=URI;X-ADDRESS=The J 2935 Birch Hollow Dr. Ann Arbor MI 48108 United States;X-APPLE-RADIUS=500;X-TITLE=2935 Birch Hollow Dr.:geo:-83.722389,42.239759
END:VEVENT
BEGIN:VEVENT
DTSTART;TZID=America/Detroit:20260518T153000
DTEND;TZID=America/Detroit:20260518T170000
DTSTAMP:20260425T074007
CREATED:20260424T173337Z
LAST-MODIFIED:20260424T173401Z
UID:10008051-1779118200-1779123600@jccannarbor.org
SUMMARY:Sefer Squad
DESCRIPTION:Registration for this program has now closed.
URL:https://jccannarbor.org/event/sefer-squad/2026-05-18/
LOCATION:The J\, 2935 Birch Hollow Dr.\, Ann Arbor\, MI\, 48108\, United States
CATEGORIES:Youth
GEO:42.239759;-83.722389
X-APPLE-STRUCTURED-LOCATION;VALUE=URI;X-ADDRESS=The J 2935 Birch Hollow Dr. Ann Arbor MI 48108 United States;X-APPLE-RADIUS=500;X-TITLE=2935 Birch Hollow Dr.:geo:-83.722389,42.239759
END:VEVENT
BEGIN:VEVENT
DTSTART;TZID=America/Detroit:20260518T153000
DTEND;TZID=America/Detroit:20260518T170000
DTSTAMP:20260425T074007
CREATED:20260424T173634Z
LAST-MODIFIED:20260424T174716Z
UID:10008115-1779118200-1779123600@jccannarbor.org
SUMMARY:Flag Football
DESCRIPTION:
URL:https://jccannarbor.org/event/flag-football/2026-05-18/
LOCATION:The J\, 2935 Birch Hollow Dr.\, Ann Arbor\, MI\, 48108\, United States
CATEGORIES:Youth
GEO:42.239759;-83.722389
X-APPLE-STRUCTURED-LOCATION;VALUE=URI;X-ADDRESS=The J 2935 Birch Hollow Dr. Ann Arbor MI 48108 United States;X-APPLE-RADIUS=500;X-TITLE=2935 Birch Hollow Dr.:geo:-83.722389,42.239759
END:VEVENT
BEGIN:VEVENT
DTSTART;TZID=America/Detroit:20260519T153000
DTEND;TZID=America/Detroit:20260519T163000
DTSTAMP:20260425T074007
CREATED:20260424T173940Z
LAST-MODIFIED:20260424T174137Z
UID:10008122-1779204600-1779208200@jccannarbor.org
SUMMARY:Ivrit B'Keif
DESCRIPTION:
URL:https://jccannarbor.org/event/ivrit-bkeif/2026-05-19/
LOCATION:The J\, 2935 Birch Hollow Dr.\, Ann Arbor\, MI\, 48108\, United States
CATEGORIES:Youth
GEO:42.239759;-83.722389
X-APPLE-STRUCTURED-LOCATION;VALUE=URI;X-ADDRESS=The J 2935 Birch Hollow Dr. Ann Arbor MI 48108 United States;X-APPLE-RADIUS=500;X-TITLE=2935 Birch Hollow Dr.:geo:-83.722389,42.239759
END:VEVENT
BEGIN:VEVENT
DTSTART;TZID=America/Detroit:20260519T153000
DTEND;TZID=America/Detroit:20260519T170000
DTSTAMP:20260425T074007
CREATED:20260424T174344Z
LAST-MODIFIED:20260424T175114Z
UID:10008135-1779204600-1779210000@jccannarbor.org
SUMMARY:Card Games
DESCRIPTION:
URL:https://jccannarbor.org/event/card-games/2026-05-19/
LOCATION:The J\, 2935 Birch Hollow Dr.\, Ann Arbor\, MI\, 48108\, United States
CATEGORIES:Youth
GEO:42.239759;-83.722389
X-APPLE-STRUCTURED-LOCATION;VALUE=URI;X-ADDRESS=The J 2935 Birch Hollow Dr. Ann Arbor MI 48108 United States;X-APPLE-RADIUS=500;X-TITLE=2935 Birch Hollow Dr.:geo:-83.722389,42.239759
END:VEVENT
BEGIN:VEVENT
DTSTART;TZID=America/Detroit:20260520T153000
DTEND;TZID=America/Detroit:20260520T163000
DTSTAMP:20260425T074007
CREATED:20260424T180101Z
LAST-MODIFIED:20260424T180101Z
UID:10008172-1779291000-1779294600@jccannarbor.org
SUMMARY:Klez Kids
DESCRIPTION:
URL:https://jccannarbor.org/event/klez-kids/2026-05-20/
LOCATION:The J\, 2935 Birch Hollow Dr.\, Ann Arbor\, MI\, 48108\, United States
CATEGORIES:Cultural Arts,Youth
GEO:42.239759;-83.722389
X-APPLE-STRUCTURED-LOCATION;VALUE=URI;X-ADDRESS=The J 2935 Birch Hollow Dr. Ann Arbor MI 48108 United States;X-APPLE-RADIUS=500;X-TITLE=2935 Birch Hollow Dr.:geo:-83.722389,42.239759
END:VEVENT
BEGIN:VEVENT
DTSTART;TZID=America/Detroit:20260521T153000
DTEND;TZID=America/Detroit:20260521T163000
DTSTAMP:20260425T074007
CREATED:20260424T180419Z
LAST-MODIFIED:20260424T180528Z
UID:10008180-1779377400-1779381000@jccannarbor.org
SUMMARY:Chess Club
DESCRIPTION:
URL:https://jccannarbor.org/event/chess-club/2026-05-21/
LOCATION:The J\, 2935 Birch Hollow Dr.\, Ann Arbor\, MI\, 48108\, United States
CATEGORIES:Youth
GEO:42.239759;-83.722389
X-APPLE-STRUCTURED-LOCATION;VALUE=URI;X-ADDRESS=The J 2935 Birch Hollow Dr. Ann Arbor MI 48108 United States;X-APPLE-RADIUS=500;X-TITLE=2935 Birch Hollow Dr.:geo:-83.722389,42.239759
END:VEVENT
BEGIN:VEVENT
DTSTART;TZID=America/Detroit:20260521T161500
DTEND;TZID=America/Detroit:20260521T171500
DTSTAMP:20260425T074007
CREATED:20260424T180831Z
LAST-MODIFIED:20260424T180831Z
UID:10008188-1779380100-1779383700@jccannarbor.org
SUMMARY:Detroit Mad Science
DESCRIPTION:
URL:https://jccannarbor.org/event/detroit-mad-science/2026-05-21/
LOCATION:The J\, 2935 Birch Hollow Dr.\, Ann Arbor\, MI\, 48108\, United States
CATEGORIES:Youth
GEO:42.239759;-83.722389
X-APPLE-STRUCTURED-LOCATION;VALUE=URI;X-ADDRESS=The J 2935 Birch Hollow Dr. Ann Arbor MI 48108 United States;X-APPLE-RADIUS=500;X-TITLE=2935 Birch Hollow Dr.:geo:-83.722389,42.239759
END:VEVENT
BEGIN:VEVENT
DTSTART;TZID=America/Detroit:20260525T153000
DTEND;TZID=America/Detroit:20260525T170000
DTSTAMP:20260425T074007
CREATED:20260424T173337Z
LAST-MODIFIED:20260424T173401Z
UID:10008052-1779723000-1779728400@jccannarbor.org
SUMMARY:Sefer Squad
DESCRIPTION:Registration for this program has now closed.
URL:https://jccannarbor.org/event/sefer-squad/2026-05-25/
LOCATION:The J\, 2935 Birch Hollow Dr.\, Ann Arbor\, MI\, 48108\, United States
CATEGORIES:Youth
GEO:42.239759;-83.722389
X-APPLE-STRUCTURED-LOCATION;VALUE=URI;X-ADDRESS=The J 2935 Birch Hollow Dr. Ann Arbor MI 48108 United States;X-APPLE-RADIUS=500;X-TITLE=2935 Birch Hollow Dr.:geo:-83.722389,42.239759
END:VEVENT
BEGIN:VEVENT
DTSTART;TZID=America/Detroit:20260526T153000
DTEND;TZID=America/Detroit:20260526T163000
DTSTAMP:20260425T074007
CREATED:20260424T173940Z
LAST-MODIFIED:20260424T174137Z
UID:10008123-1779809400-1779813000@jccannarbor.org
SUMMARY:Ivrit B'Keif
DESCRIPTION:
URL:https://jccannarbor.org/event/ivrit-bkeif/2026-05-26/
LOCATION:The J\, 2935 Birch Hollow Dr.\, Ann Arbor\, MI\, 48108\, United States
CATEGORIES:Youth
GEO:42.239759;-83.722389
X-APPLE-STRUCTURED-LOCATION;VALUE=URI;X-ADDRESS=The J 2935 Birch Hollow Dr. Ann Arbor MI 48108 United States;X-APPLE-RADIUS=500;X-TITLE=2935 Birch Hollow Dr.:geo:-83.722389,42.239759
END:VEVENT
BEGIN:VEVENT
DTSTART;TZID=America/Detroit:20260526T153000
DTEND;TZID=America/Detroit:20260526T170000
DTSTAMP:20260425T074007
CREATED:20260424T174344Z
LAST-MODIFIED:20260424T175114Z
UID:10008136-1779809400-1779814800@jccannarbor.org
SUMMARY:Card Games
DESCRIPTION:
URL:https://jccannarbor.org/event/card-games/2026-05-26/
LOCATION:The J\, 2935 Birch Hollow Dr.\, Ann Arbor\, MI\, 48108\, United States
CATEGORIES:Youth
GEO:42.239759;-83.722389
X-APPLE-STRUCTURED-LOCATION;VALUE=URI;X-ADDRESS=The J 2935 Birch Hollow Dr. Ann Arbor MI 48108 United States;X-APPLE-RADIUS=500;X-TITLE=2935 Birch Hollow Dr.:geo:-83.722389,42.239759
END:VEVENT
BEGIN:VEVENT
DTSTART;TZID=America/Detroit:20260527T153000
DTEND;TZID=America/Detroit:20260527T163000
DTSTAMP:20260425T074007
CREATED:20260424T180101Z
LAST-MODIFIED:20260424T180101Z
UID:10008173-1779895800-1779899400@jccannarbor.org
SUMMARY:Klez Kids
DESCRIPTION:
URL:https://jccannarbor.org/event/klez-kids/2026-05-27/
LOCATION:The J\, 2935 Birch Hollow Dr.\, Ann Arbor\, MI\, 48108\, United States
CATEGORIES:Cultural Arts,Youth
GEO:42.239759;-83.722389
X-APPLE-STRUCTURED-LOCATION;VALUE=URI;X-ADDRESS=The J 2935 Birch Hollow Dr. Ann Arbor MI 48108 United States;X-APPLE-RADIUS=500;X-TITLE=2935 Birch Hollow Dr.:geo:-83.722389,42.239759
END:VEVENT
BEGIN:VEVENT
DTSTART;TZID=America/Detroit:20260528T153000
DTEND;TZID=America/Detroit:20260528T163000
DTSTAMP:20260425T074007
CREATED:20260424T180419Z
LAST-MODIFIED:20260424T180528Z
UID:10008181-1779982200-1779985800@jccannarbor.org
SUMMARY:Chess Club
DESCRIPTION:
URL:https://jccannarbor.org/event/chess-club/2026-05-28/
LOCATION:The J\, 2935 Birch Hollow Dr.\, Ann Arbor\, MI\, 48108\, United States
CATEGORIES:Youth
GEO:42.239759;-83.722389
X-APPLE-STRUCTURED-LOCATION;VALUE=URI;X-ADDRESS=The J 2935 Birch Hollow Dr. Ann Arbor MI 48108 United States;X-APPLE-RADIUS=500;X-TITLE=2935 Birch Hollow Dr.:geo:-83.722389,42.239759
END:VEVENT
BEGIN:VEVENT
DTSTART;TZID=America/Detroit:20260528T161500
DTEND;TZID=America/Detroit:20260528T171500
DTSTAMP:20260425T074007
CREATED:20260424T180831Z
LAST-MODIFIED:20260424T180831Z
UID:10008189-1779984900-1779988500@jccannarbor.org
SUMMARY:Detroit Mad Science
DESCRIPTION:
URL:https://jccannarbor.org/event/detroit-mad-science/2026-05-28/
LOCATION:The J\, 2935 Birch Hollow Dr.\, Ann Arbor\, MI\, 48108\, United States
CATEGORIES:Youth
GEO:42.239759;-83.722389
X-APPLE-STRUCTURED-LOCATION;VALUE=URI;X-ADDRESS=The J 2935 Birch Hollow Dr. Ann Arbor MI 48108 United States;X-APPLE-RADIUS=500;X-TITLE=2935 Birch Hollow Dr.:geo:-83.722389,42.239759
END:VEVENT
BEGIN:VEVENT
DTSTART;TZID=America/Detroit:20260601T153000
DTEND;TZID=America/Detroit:20260601T170000
DTSTAMP:20260425T074007
CREATED:20260424T173337Z
LAST-MODIFIED:20260424T173401Z
UID:10008053-1780327800-1780333200@jccannarbor.org
SUMMARY:Sefer Squad
DESCRIPTION:Registration for this program has now closed.
URL:https://jccannarbor.org/event/sefer-squad/2026-06-01/
LOCATION:The J\, 2935 Birch Hollow Dr.\, Ann Arbor\, MI\, 48108\, United States
CATEGORIES:Youth
GEO:42.239759;-83.722389
X-APPLE-STRUCTURED-LOCATION;VALUE=URI;X-ADDRESS=The J 2935 Birch Hollow Dr. Ann Arbor MI 48108 United States;X-APPLE-RADIUS=500;X-TITLE=2935 Birch Hollow Dr.:geo:-83.722389,42.239759
END:VEVENT
BEGIN:VEVENT
DTSTART;TZID=America/Detroit:20260601T153000
DTEND;TZID=America/Detroit:20260601T170000
DTSTAMP:20260425T074007
CREATED:20260424T173634Z
LAST-MODIFIED:20260424T174716Z
UID:10008117-1780327800-1780333200@jccannarbor.org
SUMMARY:Flag Football
DESCRIPTION:
URL:https://jccannarbor.org/event/flag-football/2026-06-01/
LOCATION:The J\, 2935 Birch Hollow Dr.\, Ann Arbor\, MI\, 48108\, United States
CATEGORIES:Youth
GEO:42.239759;-83.722389
X-APPLE-STRUCTURED-LOCATION;VALUE=URI;X-ADDRESS=The J 2935 Birch Hollow Dr. Ann Arbor MI 48108 United States;X-APPLE-RADIUS=500;X-TITLE=2935 Birch Hollow Dr.:geo:-83.722389,42.239759
END:VEVENT
BEGIN:VEVENT
DTSTART;TZID=America/Detroit:20260602T153000
DTEND;TZID=America/Detroit:20260602T170000
DTSTAMP:20260425T074007
CREATED:20260424T174344Z
LAST-MODIFIED:20260424T175114Z
UID:10008137-1780414200-1780419600@jccannarbor.org
SUMMARY:Card Games
DESCRIPTION:
URL:https://jccannarbor.org/event/card-games/2026-06-02/
LOCATION:The J\, 2935 Birch Hollow Dr.\, Ann Arbor\, MI\, 48108\, United States
CATEGORIES:Youth
GEO:42.239759;-83.722389
X-APPLE-STRUCTURED-LOCATION;VALUE=URI;X-ADDRESS=The J 2935 Birch Hollow Dr. Ann Arbor MI 48108 United States;X-APPLE-RADIUS=500;X-TITLE=2935 Birch Hollow Dr.:geo:-83.722389,42.239759
END:VEVENT
BEGIN:VEVENT
DTSTART;TZID=America/Detroit:20260602T180000
DTEND;TZID=America/Detroit:20260602T210000
DTSTAMP:20260425T074007
CREATED:20260120T214214Z
LAST-MODIFIED:20260330T225314Z
UID:10007966-1780423200-1780434000@jccannarbor.org
SUMMARY:JCC's Spotlight to Summer
DESCRIPTION:View Event Page\n 
URL:https://jccannarbor.org/event/jcc-spotlight-to-summer/
LOCATION:The Kensington Hotel\, 3500 S State St\, Ann Arbor\, 48108\, United States
CATEGORIES:Adults,Cultural Arts,Youth
ATTACH;FMTTYPE=image/jpeg:https://jccannarbor.org/wp-content/uploads/2026/01/Copy-of-JCC-Maccabi-Website-1.jpg
END:VEVENT
BEGIN:VEVENT
DTSTART;TZID=America/Detroit:20260603T153000
DTEND;TZID=America/Detroit:20260603T163000
DTSTAMP:20260425T074007
CREATED:20260424T180101Z
LAST-MODIFIED:20260424T180101Z
UID:10008174-1780500600-1780504200@jccannarbor.org
SUMMARY:Klez Kids
DESCRIPTION:
URL:https://jccannarbor.org/event/klez-kids/2026-06-03/
LOCATION:The J\, 2935 Birch Hollow Dr.\, Ann Arbor\, MI\, 48108\, United States
CATEGORIES:Cultural Arts,Youth
GEO:42.239759;-83.722389
X-APPLE-STRUCTURED-LOCATION;VALUE=URI;X-ADDRESS=The J 2935 Birch Hollow Dr. Ann Arbor MI 48108 United States;X-APPLE-RADIUS=500;X-TITLE=2935 Birch Hollow Dr.:geo:-83.722389,42.239759
END:VEVENT
END:VCALENDAR