BEGIN:VCALENDAR
VERSION:2.0
PRODID:-//The J of Greater Ann Arbor - ECPv6.15.18//NONSGML v1.0//EN
CALSCALE:GREGORIAN
METHOD:PUBLISH
X-ORIGINAL-URL:https://jccannarbor.org
X-WR-CALDESC:Events for The J of Greater Ann Arbor
REFRESH-INTERVAL;VALUE=DURATION:PT1H
X-Robots-Tag:noindex
X-PUBLISHED-TTL:PT1H
BEGIN:VTIMEZONE
TZID:America/Detroit
BEGIN:DAYLIGHT
TZOFFSETFROM:-0500
TZOFFSETTO:-0400
TZNAME:EDT
DTSTART:20250309T070000
END:DAYLIGHT
BEGIN:STANDARD
TZOFFSETFROM:-0400
TZOFFSETTO:-0500
TZNAME:EST
DTSTART:20251102T060000
END:STANDARD
BEGIN:DAYLIGHT
TZOFFSETFROM:-0500
TZOFFSETTO:-0400
TZNAME:EDT
DTSTART:20260308T070000
END:DAYLIGHT
BEGIN:STANDARD
TZOFFSETFROM:-0400
TZOFFSETTO:-0500
TZNAME:EST
DTSTART:20261101T060000
END:STANDARD
BEGIN:DAYLIGHT
TZOFFSETFROM:-0500
TZOFFSETTO:-0400
TZNAME:EDT
DTSTART:20270314T070000
END:DAYLIGHT
BEGIN:STANDARD
TZOFFSETFROM:-0400
TZOFFSETTO:-0500
TZNAME:EST
DTSTART:20271107T060000
END:STANDARD
END:VTIMEZONE
BEGIN:VEVENT
DTSTART;TZID=America/Detroit:20260428T170000
DTEND;TZID=America/Detroit:20260428T180000
DTSTAMP:20260423T015126
CREATED:20251219T185738Z
LAST-MODIFIED:20260204T205752Z
UID:10007871-1777395600-1777399200@jccannarbor.org
SUMMARY:Soccer Stars (without KidZone Care)
DESCRIPTION:Registration is now closed.
URL:https://jccannarbor.org/event/soccer-stars-without-kidzone-care/2026-04-28/
LOCATION:The J\, 2935 Birch Hollow Dr.\, Ann Arbor\, MI\, 48108\, United States
CATEGORIES:Youth
GEO:42.239759;-83.722389
X-APPLE-STRUCTURED-LOCATION;VALUE=URI;X-ADDRESS=The J 2935 Birch Hollow Dr. Ann Arbor MI 48108 United States;X-APPLE-RADIUS=500;X-TITLE=2935 Birch Hollow Dr.:geo:-83.722389,42.239759
END:VEVENT
BEGIN:VEVENT
DTSTART;VALUE=DATE:20260503
DTEND;VALUE=DATE:20260514
DTSTAMP:20260423T015126
CREATED:20260318T202212Z
LAST-MODIFIED:20260318T202302Z
UID:10008002-1777766400-1778716799@jccannarbor.org
SUMMARY:2026 Ann Arbor Jewish Film Festival
DESCRIPTION:View Film Festival Homepage
URL:https://jccannarbor.org/event/2026-ann-arbor-jewish-film-festival/
LOCATION:State Theatre\, 233 South State Street\, Ann Arbor\, MI\, 48104\, United States
CATEGORIES:Adults,Cultural Arts,Film Festival,Youth
ATTACH;FMTTYPE=image/jpeg:https://jccannarbor.org/wp-content/uploads/2026/03/Copy-of-JCC-Maccabi-Website.jpg
END:VEVENT
BEGIN:VEVENT
DTSTART;TZID=America/Detroit:20260505T153000
DTEND;TZID=America/Detroit:20260505T180000
DTSTAMP:20260423T015126
CREATED:20251219T185539Z
LAST-MODIFIED:20260204T205555Z
UID:10007812-1777995000-1778004000@jccannarbor.org
SUMMARY:Soccer Stars (with KidZone Care)
DESCRIPTION:Registration is now closed.
URL:https://jccannarbor.org/event/soccer-stars-with-kidzone-care/2026-05-05/
LOCATION:The J\, 2935 Birch Hollow Dr.\, Ann Arbor\, MI\, 48108\, United States
CATEGORIES:KidZone,Youth
GEO:42.239759;-83.722389
X-APPLE-STRUCTURED-LOCATION;VALUE=URI;X-ADDRESS=The J 2935 Birch Hollow Dr. Ann Arbor MI 48108 United States;X-APPLE-RADIUS=500;X-TITLE=2935 Birch Hollow Dr.:geo:-83.722389,42.239759
END:VEVENT
BEGIN:VEVENT
DTSTART;TZID=America/Detroit:20260505T170000
DTEND;TZID=America/Detroit:20260505T180000
DTSTAMP:20260423T015126
CREATED:20251219T185738Z
LAST-MODIFIED:20260204T205752Z
UID:10007872-1778000400-1778004000@jccannarbor.org
SUMMARY:Soccer Stars (without KidZone Care)
DESCRIPTION:Registration is now closed.
URL:https://jccannarbor.org/event/soccer-stars-without-kidzone-care/2026-05-05/
LOCATION:The J\, 2935 Birch Hollow Dr.\, Ann Arbor\, MI\, 48108\, United States
CATEGORIES:Youth
GEO:42.239759;-83.722389
X-APPLE-STRUCTURED-LOCATION;VALUE=URI;X-ADDRESS=The J 2935 Birch Hollow Dr. Ann Arbor MI 48108 United States;X-APPLE-RADIUS=500;X-TITLE=2935 Birch Hollow Dr.:geo:-83.722389,42.239759
END:VEVENT
BEGIN:VEVENT
DTSTART;TZID=America/Detroit:20260511T183000
DTEND;TZID=America/Detroit:20260511T200000
DTSTAMP:20260423T015126
CREATED:20260318T204200Z
LAST-MODIFIED:20260318T204200Z
UID:10008008-1778524200-1778529600@jccannarbor.org
SUMMARY:"Girls Like Us" Film Showing
DESCRIPTION:
URL:https://jccannarbor.org/event/girls-like-us-film-showing/
LOCATION:State Theatre\, 233 South State Street\, Ann Arbor\, MI\, 48104\, United States
CATEGORIES:Adults,Cultural Arts,Film Festival,Youth
END:VEVENT
BEGIN:VEVENT
DTSTART;TZID=America/Detroit:20260512T153000
DTEND;TZID=America/Detroit:20260512T180000
DTSTAMP:20260423T015126
CREATED:20251219T185539Z
LAST-MODIFIED:20260204T205555Z
UID:10007813-1778599800-1778608800@jccannarbor.org
SUMMARY:Soccer Stars (with KidZone Care)
DESCRIPTION:Registration is now closed.
URL:https://jccannarbor.org/event/soccer-stars-with-kidzone-care/2026-05-12/
LOCATION:The J\, 2935 Birch Hollow Dr.\, Ann Arbor\, MI\, 48108\, United States
CATEGORIES:KidZone,Youth
GEO:42.239759;-83.722389
X-APPLE-STRUCTURED-LOCATION;VALUE=URI;X-ADDRESS=The J 2935 Birch Hollow Dr. Ann Arbor MI 48108 United States;X-APPLE-RADIUS=500;X-TITLE=2935 Birch Hollow Dr.:geo:-83.722389,42.239759
END:VEVENT
BEGIN:VEVENT
DTSTART;TZID=America/Detroit:20260512T170000
DTEND;TZID=America/Detroit:20260512T180000
DTSTAMP:20260423T015126
CREATED:20251219T185738Z
LAST-MODIFIED:20260204T205752Z
UID:10007873-1778605200-1778608800@jccannarbor.org
SUMMARY:Soccer Stars (without KidZone Care)
DESCRIPTION:Registration is now closed.
URL:https://jccannarbor.org/event/soccer-stars-without-kidzone-care/2026-05-12/
LOCATION:The J\, 2935 Birch Hollow Dr.\, Ann Arbor\, MI\, 48108\, United States
CATEGORIES:Youth
GEO:42.239759;-83.722389
X-APPLE-STRUCTURED-LOCATION;VALUE=URI;X-ADDRESS=The J 2935 Birch Hollow Dr. Ann Arbor MI 48108 United States;X-APPLE-RADIUS=500;X-TITLE=2935 Birch Hollow Dr.:geo:-83.722389,42.239759
END:VEVENT
BEGIN:VEVENT
DTSTART;TZID=America/Detroit:20260513T190000
DTEND;TZID=America/Detroit:20260513T203000
DTSTAMP:20260423T015126
CREATED:20260318T204924Z
LAST-MODIFIED:20260318T205038Z
UID:10008011-1778698800-1778704200@jccannarbor.org
SUMMARY:"Yaniv" Film Showing
DESCRIPTION:
URL:https://jccannarbor.org/event/yaniv-film-showing/
LOCATION:Morris Lawrence Building\, 4800 E Huron River Dr\, Ann Arbor\, MI\, 48104\, United States
CATEGORIES:Adults,Cultural Arts,Film Festival,Youth
END:VEVENT
BEGIN:VEVENT
DTSTART;TZID=America/Detroit:20260519T153000
DTEND;TZID=America/Detroit:20260519T180000
DTSTAMP:20260423T015126
CREATED:20251219T185539Z
LAST-MODIFIED:20260204T205555Z
UID:10007814-1779204600-1779213600@jccannarbor.org
SUMMARY:Soccer Stars (with KidZone Care)
DESCRIPTION:Registration is now closed.
URL:https://jccannarbor.org/event/soccer-stars-with-kidzone-care/2026-05-19/
LOCATION:The J\, 2935 Birch Hollow Dr.\, Ann Arbor\, MI\, 48108\, United States
CATEGORIES:KidZone,Youth
GEO:42.239759;-83.722389
X-APPLE-STRUCTURED-LOCATION;VALUE=URI;X-ADDRESS=The J 2935 Birch Hollow Dr. Ann Arbor MI 48108 United States;X-APPLE-RADIUS=500;X-TITLE=2935 Birch Hollow Dr.:geo:-83.722389,42.239759
END:VEVENT
BEGIN:VEVENT
DTSTART;TZID=America/Detroit:20260519T170000
DTEND;TZID=America/Detroit:20260519T180000
DTSTAMP:20260423T015126
CREATED:20251219T185738Z
LAST-MODIFIED:20260204T205752Z
UID:10007874-1779210000-1779213600@jccannarbor.org
SUMMARY:Soccer Stars (without KidZone Care)
DESCRIPTION:Registration is now closed.
URL:https://jccannarbor.org/event/soccer-stars-without-kidzone-care/2026-05-19/
LOCATION:The J\, 2935 Birch Hollow Dr.\, Ann Arbor\, MI\, 48108\, United States
CATEGORIES:Youth
GEO:42.239759;-83.722389
X-APPLE-STRUCTURED-LOCATION;VALUE=URI;X-ADDRESS=The J 2935 Birch Hollow Dr. Ann Arbor MI 48108 United States;X-APPLE-RADIUS=500;X-TITLE=2935 Birch Hollow Dr.:geo:-83.722389,42.239759
END:VEVENT
BEGIN:VEVENT
DTSTART;TZID=America/Detroit:20260526T153000
DTEND;TZID=America/Detroit:20260526T180000
DTSTAMP:20260423T015126
CREATED:20251219T185539Z
LAST-MODIFIED:20260204T205555Z
UID:10007815-1779809400-1779818400@jccannarbor.org
SUMMARY:Soccer Stars (with KidZone Care)
DESCRIPTION:Registration is now closed.
URL:https://jccannarbor.org/event/soccer-stars-with-kidzone-care/2026-05-26/
LOCATION:The J\, 2935 Birch Hollow Dr.\, Ann Arbor\, MI\, 48108\, United States
CATEGORIES:KidZone,Youth
GEO:42.239759;-83.722389
X-APPLE-STRUCTURED-LOCATION;VALUE=URI;X-ADDRESS=The J 2935 Birch Hollow Dr. Ann Arbor MI 48108 United States;X-APPLE-RADIUS=500;X-TITLE=2935 Birch Hollow Dr.:geo:-83.722389,42.239759
END:VEVENT
BEGIN:VEVENT
DTSTART;TZID=America/Detroit:20260526T170000
DTEND;TZID=America/Detroit:20260526T180000
DTSTAMP:20260423T015126
CREATED:20251219T185738Z
LAST-MODIFIED:20260204T205752Z
UID:10007875-1779814800-1779818400@jccannarbor.org
SUMMARY:Soccer Stars (without KidZone Care)
DESCRIPTION:Registration is now closed.
URL:https://jccannarbor.org/event/soccer-stars-without-kidzone-care/2026-05-26/
LOCATION:The J\, 2935 Birch Hollow Dr.\, Ann Arbor\, MI\, 48108\, United States
CATEGORIES:Youth
GEO:42.239759;-83.722389
X-APPLE-STRUCTURED-LOCATION;VALUE=URI;X-ADDRESS=The J 2935 Birch Hollow Dr. Ann Arbor MI 48108 United States;X-APPLE-RADIUS=500;X-TITLE=2935 Birch Hollow Dr.:geo:-83.722389,42.239759
END:VEVENT
BEGIN:VEVENT
DTSTART;TZID=America/Detroit:20260602T153000
DTEND;TZID=America/Detroit:20260602T180000
DTSTAMP:20260423T015126
CREATED:20251219T185539Z
LAST-MODIFIED:20260204T205555Z
UID:10007816-1780414200-1780423200@jccannarbor.org
SUMMARY:Soccer Stars (with KidZone Care)
DESCRIPTION:Registration is now closed.
URL:https://jccannarbor.org/event/soccer-stars-with-kidzone-care/2026-06-02/
LOCATION:The J\, 2935 Birch Hollow Dr.\, Ann Arbor\, MI\, 48108\, United States
CATEGORIES:KidZone,Youth
GEO:42.239759;-83.722389
X-APPLE-STRUCTURED-LOCATION;VALUE=URI;X-ADDRESS=The J 2935 Birch Hollow Dr. Ann Arbor MI 48108 United States;X-APPLE-RADIUS=500;X-TITLE=2935 Birch Hollow Dr.:geo:-83.722389,42.239759
END:VEVENT
BEGIN:VEVENT
DTSTART;TZID=America/Detroit:20260602T170000
DTEND;TZID=America/Detroit:20260602T180000
DTSTAMP:20260423T015126
CREATED:20251219T185738Z
LAST-MODIFIED:20260204T205752Z
UID:10007876-1780419600-1780423200@jccannarbor.org
SUMMARY:Soccer Stars (without KidZone Care)
DESCRIPTION:Registration is now closed.
URL:https://jccannarbor.org/event/soccer-stars-without-kidzone-care/2026-06-02/
LOCATION:The J\, 2935 Birch Hollow Dr.\, Ann Arbor\, MI\, 48108\, United States
CATEGORIES:Youth
GEO:42.239759;-83.722389
X-APPLE-STRUCTURED-LOCATION;VALUE=URI;X-ADDRESS=The J 2935 Birch Hollow Dr. Ann Arbor MI 48108 United States;X-APPLE-RADIUS=500;X-TITLE=2935 Birch Hollow Dr.:geo:-83.722389,42.239759
END:VEVENT
BEGIN:VEVENT
DTSTART;TZID=America/Detroit:20260602T180000
DTEND;TZID=America/Detroit:20260602T210000
DTSTAMP:20260423T015126
CREATED:20260120T214214Z
LAST-MODIFIED:20260330T225314Z
UID:10007966-1780423200-1780434000@jccannarbor.org
SUMMARY:JCC's Spotlight to Summer
DESCRIPTION:View Event Page\n 
URL:https://jccannarbor.org/event/jcc-spotlight-to-summer/
LOCATION:The Kensington Hotel\, 3500 S State St\, Ann Arbor\, 48108\, United States
CATEGORIES:Adults,Cultural Arts,Youth
ATTACH;FMTTYPE=image/jpeg:https://jccannarbor.org/wp-content/uploads/2026/01/Copy-of-JCC-Maccabi-Website-1.jpg
END:VEVENT
BEGIN:VEVENT
DTSTART;TZID=America/Detroit:20260609T153000
DTEND;TZID=America/Detroit:20260609T180000
DTSTAMP:20260423T015127
CREATED:20251219T185539Z
LAST-MODIFIED:20260204T205555Z
UID:10007817-1781019000-1781028000@jccannarbor.org
SUMMARY:Soccer Stars (with KidZone Care)
DESCRIPTION:Registration is now closed.
URL:https://jccannarbor.org/event/soccer-stars-with-kidzone-care/2026-06-09/
LOCATION:The J\, 2935 Birch Hollow Dr.\, Ann Arbor\, MI\, 48108\, United States
CATEGORIES:KidZone,Youth
GEO:42.239759;-83.722389
X-APPLE-STRUCTURED-LOCATION;VALUE=URI;X-ADDRESS=The J 2935 Birch Hollow Dr. Ann Arbor MI 48108 United States;X-APPLE-RADIUS=500;X-TITLE=2935 Birch Hollow Dr.:geo:-83.722389,42.239759
END:VEVENT
BEGIN:VEVENT
DTSTART;TZID=America/Detroit:20260609T170000
DTEND;TZID=America/Detroit:20260609T180000
DTSTAMP:20260423T015127
CREATED:20251219T185738Z
LAST-MODIFIED:20260204T205752Z
UID:10007877-1781024400-1781028000@jccannarbor.org
SUMMARY:Soccer Stars (without KidZone Care)
DESCRIPTION:Registration is now closed.
URL:https://jccannarbor.org/event/soccer-stars-without-kidzone-care/2026-06-09/
LOCATION:The J\, 2935 Birch Hollow Dr.\, Ann Arbor\, MI\, 48108\, United States
CATEGORIES:Youth
GEO:42.239759;-83.722389
X-APPLE-STRUCTURED-LOCATION;VALUE=URI;X-ADDRESS=The J 2935 Birch Hollow Dr. Ann Arbor MI 48108 United States;X-APPLE-RADIUS=500;X-TITLE=2935 Birch Hollow Dr.:geo:-83.722389,42.239759
END:VEVENT
BEGIN:VEVENT
DTSTART;TZID=America/Detroit:20260616T153000
DTEND;TZID=America/Detroit:20260616T180000
DTSTAMP:20260423T015127
CREATED:20251219T185539Z
LAST-MODIFIED:20260204T205555Z
UID:10007818-1781623800-1781632800@jccannarbor.org
SUMMARY:Soccer Stars (with KidZone Care)
DESCRIPTION:Registration is now closed.
URL:https://jccannarbor.org/event/soccer-stars-with-kidzone-care/2026-06-16/
LOCATION:The J\, 2935 Birch Hollow Dr.\, Ann Arbor\, MI\, 48108\, United States
CATEGORIES:KidZone,Youth
GEO:42.239759;-83.722389
X-APPLE-STRUCTURED-LOCATION;VALUE=URI;X-ADDRESS=The J 2935 Birch Hollow Dr. Ann Arbor MI 48108 United States;X-APPLE-RADIUS=500;X-TITLE=2935 Birch Hollow Dr.:geo:-83.722389,42.239759
END:VEVENT
BEGIN:VEVENT
DTSTART;TZID=America/Detroit:20260616T170000
DTEND;TZID=America/Detroit:20260616T180000
DTSTAMP:20260423T015127
CREATED:20251219T185738Z
LAST-MODIFIED:20260204T205752Z
UID:10007878-1781629200-1781632800@jccannarbor.org
SUMMARY:Soccer Stars (without KidZone Care)
DESCRIPTION:Registration is now closed.
URL:https://jccannarbor.org/event/soccer-stars-without-kidzone-care/2026-06-16/
LOCATION:The J\, 2935 Birch Hollow Dr.\, Ann Arbor\, MI\, 48108\, United States
CATEGORIES:Youth
GEO:42.239759;-83.722389
X-APPLE-STRUCTURED-LOCATION;VALUE=URI;X-ADDRESS=The J 2935 Birch Hollow Dr. Ann Arbor MI 48108 United States;X-APPLE-RADIUS=500;X-TITLE=2935 Birch Hollow Dr.:geo:-83.722389,42.239759
END:VEVENT
BEGIN:VEVENT
DTSTART;TZID=America/Detroit:20260623T153000
DTEND;TZID=America/Detroit:20260623T180000
DTSTAMP:20260423T015127
CREATED:20251219T185539Z
LAST-MODIFIED:20260204T205555Z
UID:10007819-1782228600-1782237600@jccannarbor.org
SUMMARY:Soccer Stars (with KidZone Care)
DESCRIPTION:Registration is now closed.
URL:https://jccannarbor.org/event/soccer-stars-with-kidzone-care/2026-06-23/
LOCATION:The J\, 2935 Birch Hollow Dr.\, Ann Arbor\, MI\, 48108\, United States
CATEGORIES:KidZone,Youth
GEO:42.239759;-83.722389
X-APPLE-STRUCTURED-LOCATION;VALUE=URI;X-ADDRESS=The J 2935 Birch Hollow Dr. Ann Arbor MI 48108 United States;X-APPLE-RADIUS=500;X-TITLE=2935 Birch Hollow Dr.:geo:-83.722389,42.239759
END:VEVENT
BEGIN:VEVENT
DTSTART;TZID=America/Detroit:20260623T170000
DTEND;TZID=America/Detroit:20260623T180000
DTSTAMP:20260423T015127
CREATED:20251219T185738Z
LAST-MODIFIED:20260204T205752Z
UID:10007879-1782234000-1782237600@jccannarbor.org
SUMMARY:Soccer Stars (without KidZone Care)
DESCRIPTION:Registration is now closed.
URL:https://jccannarbor.org/event/soccer-stars-without-kidzone-care/2026-06-23/
LOCATION:The J\, 2935 Birch Hollow Dr.\, Ann Arbor\, MI\, 48108\, United States
CATEGORIES:Youth
GEO:42.239759;-83.722389
X-APPLE-STRUCTURED-LOCATION;VALUE=URI;X-ADDRESS=The J 2935 Birch Hollow Dr. Ann Arbor MI 48108 United States;X-APPLE-RADIUS=500;X-TITLE=2935 Birch Hollow Dr.:geo:-83.722389,42.239759
END:VEVENT
BEGIN:VEVENT
DTSTART;TZID=America/Detroit:20260630T153000
DTEND;TZID=America/Detroit:20260630T180000
DTSTAMP:20260423T015127
CREATED:20251219T185539Z
LAST-MODIFIED:20260204T205555Z
UID:10007820-1782833400-1782842400@jccannarbor.org
SUMMARY:Soccer Stars (with KidZone Care)
DESCRIPTION:Registration is now closed.
URL:https://jccannarbor.org/event/soccer-stars-with-kidzone-care/2026-06-30/
LOCATION:The J\, 2935 Birch Hollow Dr.\, Ann Arbor\, MI\, 48108\, United States
CATEGORIES:KidZone,Youth
GEO:42.239759;-83.722389
X-APPLE-STRUCTURED-LOCATION;VALUE=URI;X-ADDRESS=The J 2935 Birch Hollow Dr. Ann Arbor MI 48108 United States;X-APPLE-RADIUS=500;X-TITLE=2935 Birch Hollow Dr.:geo:-83.722389,42.239759
END:VEVENT
BEGIN:VEVENT
DTSTART;TZID=America/Detroit:20260630T170000
DTEND;TZID=America/Detroit:20260630T180000
DTSTAMP:20260423T015127
CREATED:20251219T185738Z
LAST-MODIFIED:20260204T205752Z
UID:10007880-1782838800-1782842400@jccannarbor.org
SUMMARY:Soccer Stars (without KidZone Care)
DESCRIPTION:Registration is now closed.
URL:https://jccannarbor.org/event/soccer-stars-without-kidzone-care/2026-06-30/
LOCATION:The J\, 2935 Birch Hollow Dr.\, Ann Arbor\, MI\, 48108\, United States
CATEGORIES:Youth
GEO:42.239759;-83.722389
X-APPLE-STRUCTURED-LOCATION;VALUE=URI;X-ADDRESS=The J 2935 Birch Hollow Dr. Ann Arbor MI 48108 United States;X-APPLE-RADIUS=500;X-TITLE=2935 Birch Hollow Dr.:geo:-83.722389,42.239759
END:VEVENT
BEGIN:VEVENT
DTSTART;TZID=America/Detroit:20260707T153000
DTEND;TZID=America/Detroit:20260707T180000
DTSTAMP:20260423T015127
CREATED:20251219T185539Z
LAST-MODIFIED:20260204T205555Z
UID:10007821-1783438200-1783447200@jccannarbor.org
SUMMARY:Soccer Stars (with KidZone Care)
DESCRIPTION:Registration is now closed.
URL:https://jccannarbor.org/event/soccer-stars-with-kidzone-care/2026-07-07/
LOCATION:The J\, 2935 Birch Hollow Dr.\, Ann Arbor\, MI\, 48108\, United States
CATEGORIES:KidZone,Youth
GEO:42.239759;-83.722389
X-APPLE-STRUCTURED-LOCATION;VALUE=URI;X-ADDRESS=The J 2935 Birch Hollow Dr. Ann Arbor MI 48108 United States;X-APPLE-RADIUS=500;X-TITLE=2935 Birch Hollow Dr.:geo:-83.722389,42.239759
END:VEVENT
BEGIN:VEVENT
DTSTART;TZID=America/Detroit:20260707T170000
DTEND;TZID=America/Detroit:20260707T180000
DTSTAMP:20260423T015127
CREATED:20251219T185738Z
LAST-MODIFIED:20260204T205752Z
UID:10007881-1783443600-1783447200@jccannarbor.org
SUMMARY:Soccer Stars (without KidZone Care)
DESCRIPTION:Registration is now closed.
URL:https://jccannarbor.org/event/soccer-stars-without-kidzone-care/2026-07-07/
LOCATION:The J\, 2935 Birch Hollow Dr.\, Ann Arbor\, MI\, 48108\, United States
CATEGORIES:Youth
GEO:42.239759;-83.722389
X-APPLE-STRUCTURED-LOCATION;VALUE=URI;X-ADDRESS=The J 2935 Birch Hollow Dr. Ann Arbor MI 48108 United States;X-APPLE-RADIUS=500;X-TITLE=2935 Birch Hollow Dr.:geo:-83.722389,42.239759
END:VEVENT
BEGIN:VEVENT
DTSTART;TZID=America/Detroit:20260714T153000
DTEND;TZID=America/Detroit:20260714T180000
DTSTAMP:20260423T015127
CREATED:20251219T185539Z
LAST-MODIFIED:20260204T205555Z
UID:10007822-1784043000-1784052000@jccannarbor.org
SUMMARY:Soccer Stars (with KidZone Care)
DESCRIPTION:Registration is now closed.
URL:https://jccannarbor.org/event/soccer-stars-with-kidzone-care/2026-07-14/
LOCATION:The J\, 2935 Birch Hollow Dr.\, Ann Arbor\, MI\, 48108\, United States
CATEGORIES:KidZone,Youth
GEO:42.239759;-83.722389
X-APPLE-STRUCTURED-LOCATION;VALUE=URI;X-ADDRESS=The J 2935 Birch Hollow Dr. Ann Arbor MI 48108 United States;X-APPLE-RADIUS=500;X-TITLE=2935 Birch Hollow Dr.:geo:-83.722389,42.239759
END:VEVENT
BEGIN:VEVENT
DTSTART;TZID=America/Detroit:20260714T170000
DTEND;TZID=America/Detroit:20260714T180000
DTSTAMP:20260423T015127
CREATED:20251219T185738Z
LAST-MODIFIED:20260204T205752Z
UID:10007882-1784048400-1784052000@jccannarbor.org
SUMMARY:Soccer Stars (without KidZone Care)
DESCRIPTION:Registration is now closed.
URL:https://jccannarbor.org/event/soccer-stars-without-kidzone-care/2026-07-14/
LOCATION:The J\, 2935 Birch Hollow Dr.\, Ann Arbor\, MI\, 48108\, United States
CATEGORIES:Youth
GEO:42.239759;-83.722389
X-APPLE-STRUCTURED-LOCATION;VALUE=URI;X-ADDRESS=The J 2935 Birch Hollow Dr. Ann Arbor MI 48108 United States;X-APPLE-RADIUS=500;X-TITLE=2935 Birch Hollow Dr.:geo:-83.722389,42.239759
END:VEVENT
BEGIN:VEVENT
DTSTART;TZID=America/Detroit:20260721T153000
DTEND;TZID=America/Detroit:20260721T180000
DTSTAMP:20260423T015127
CREATED:20251219T185539Z
LAST-MODIFIED:20260204T205555Z
UID:10007823-1784647800-1784656800@jccannarbor.org
SUMMARY:Soccer Stars (with KidZone Care)
DESCRIPTION:Registration is now closed.
URL:https://jccannarbor.org/event/soccer-stars-with-kidzone-care/2026-07-21/
LOCATION:The J\, 2935 Birch Hollow Dr.\, Ann Arbor\, MI\, 48108\, United States
CATEGORIES:KidZone,Youth
GEO:42.239759;-83.722389
X-APPLE-STRUCTURED-LOCATION;VALUE=URI;X-ADDRESS=The J 2935 Birch Hollow Dr. Ann Arbor MI 48108 United States;X-APPLE-RADIUS=500;X-TITLE=2935 Birch Hollow Dr.:geo:-83.722389,42.239759
END:VEVENT
BEGIN:VEVENT
DTSTART;TZID=America/Detroit:20260721T170000
DTEND;TZID=America/Detroit:20260721T180000
DTSTAMP:20260423T015127
CREATED:20251219T185738Z
LAST-MODIFIED:20260204T205752Z
UID:10007883-1784653200-1784656800@jccannarbor.org
SUMMARY:Soccer Stars (without KidZone Care)
DESCRIPTION:Registration is now closed.
URL:https://jccannarbor.org/event/soccer-stars-without-kidzone-care/2026-07-21/
LOCATION:The J\, 2935 Birch Hollow Dr.\, Ann Arbor\, MI\, 48108\, United States
CATEGORIES:Youth
GEO:42.239759;-83.722389
X-APPLE-STRUCTURED-LOCATION;VALUE=URI;X-ADDRESS=The J 2935 Birch Hollow Dr. Ann Arbor MI 48108 United States;X-APPLE-RADIUS=500;X-TITLE=2935 Birch Hollow Dr.:geo:-83.722389,42.239759
END:VEVENT
BEGIN:VEVENT
DTSTART;TZID=America/Detroit:20260728T153000
DTEND;TZID=America/Detroit:20260728T180000
DTSTAMP:20260423T015127
CREATED:20251219T185539Z
LAST-MODIFIED:20260204T205555Z
UID:10007824-1785252600-1785261600@jccannarbor.org
SUMMARY:Soccer Stars (with KidZone Care)
DESCRIPTION:Registration is now closed.
URL:https://jccannarbor.org/event/soccer-stars-with-kidzone-care/2026-07-28/
LOCATION:The J\, 2935 Birch Hollow Dr.\, Ann Arbor\, MI\, 48108\, United States
CATEGORIES:KidZone,Youth
GEO:42.239759;-83.722389
X-APPLE-STRUCTURED-LOCATION;VALUE=URI;X-ADDRESS=The J 2935 Birch Hollow Dr. Ann Arbor MI 48108 United States;X-APPLE-RADIUS=500;X-TITLE=2935 Birch Hollow Dr.:geo:-83.722389,42.239759
END:VEVENT
END:VCALENDAR